BEGIN:VCALENDAR
VERSION:2.0
PRODID:-//East Tennesee Visitors Guide - ECPv6.15.20//NONSGML v1.0//EN
CALSCALE:GREGORIAN
METHOD:PUBLISH
X-ORIGINAL-URL:https://easttennesseevisitorsguide.com
X-WR-CALDESC:Events for East Tennesee Visitors Guide
REFRESH-INTERVAL;VALUE=DURATION:PT1H
X-Robots-Tag:noindex
X-PUBLISHED-TTL:PT1H
BEGIN:VTIMEZONE
TZID:America/Chicago
BEGIN:DAYLIGHT
TZOFFSETFROM:-0600
TZOFFSETTO:-0500
TZNAME:CDT
DTSTART:20240310T080000
END:DAYLIGHT
BEGIN:STANDARD
TZOFFSETFROM:-0500
TZOFFSETTO:-0600
TZNAME:CST
DTSTART:20241103T070000
END:STANDARD
BEGIN:DAYLIGHT
TZOFFSETFROM:-0600
TZOFFSETTO:-0500
TZNAME:CDT
DTSTART:20250309T080000
END:DAYLIGHT
BEGIN:STANDARD
TZOFFSETFROM:-0500
TZOFFSETTO:-0600
TZNAME:CST
DTSTART:20251102T070000
END:STANDARD
BEGIN:DAYLIGHT
TZOFFSETFROM:-0600
TZOFFSETTO:-0500
TZNAME:CDT
DTSTART:20260308T080000
END:DAYLIGHT
BEGIN:STANDARD
TZOFFSETFROM:-0500
TZOFFSETTO:-0600
TZNAME:CST
DTSTART:20261101T070000
END:STANDARD
END:VTIMEZONE
BEGIN:VEVENT
DTSTART;VALUE=DATE:20251206
DTEND;VALUE=DATE:20251208
DTSTAMP:20260419T223137
CREATED:20241110T210109Z
LAST-MODIFIED:20250728T123152Z
UID:7996-1764979200-1765151999@easttennesseevisitorsguide.com
SUMMARY:Bulls Gap Christmas Bazaar
DESCRIPTION:Bulls Gap Christmas Bazaar\n  December 6-7\n  Saturday 10 AM-5 PM\n  Sunday 12 PM-4 PM
URL:https://easttennesseevisitorsguide.com/event/bulls-gap-christmas-bazaar/
CATEGORIES:Bulls Gap TN Events,Chamber Events,other events
ATTACH;FMTTYPE=image/jpeg:https://easttennesseevisitorsguide.com/wp-content/uploads/2024/11/christmas-bazaar-bulls-gap-tn.jpg
END:VEVENT
END:VCALENDAR