BEGIN:VCALENDAR
VERSION:2.0
PRODID:-//East Tennesee Visitors Guide - ECPv6.15.20//NONSGML v1.0//EN
CALSCALE:GREGORIAN
METHOD:PUBLISH
X-WR-CALNAME:East Tennesee Visitors Guide
X-ORIGINAL-URL:https://easttennesseevisitorsguide.com
X-WR-CALDESC:Events for East Tennesee Visitors Guide
REFRESH-INTERVAL;VALUE=DURATION:PT1H
X-Robots-Tag:noindex
X-PUBLISHED-TTL:PT1H
BEGIN:VTIMEZONE
TZID:America/Chicago
BEGIN:DAYLIGHT
TZOFFSETFROM:-0600
TZOFFSETTO:-0500
TZNAME:CDT
DTSTART:20240310T080000
END:DAYLIGHT
BEGIN:STANDARD
TZOFFSETFROM:-0500
TZOFFSETTO:-0600
TZNAME:CST
DTSTART:20241103T070000
END:STANDARD
BEGIN:DAYLIGHT
TZOFFSETFROM:-0600
TZOFFSETTO:-0500
TZNAME:CDT
DTSTART:20250309T080000
END:DAYLIGHT
BEGIN:STANDARD
TZOFFSETFROM:-0500
TZOFFSETTO:-0600
TZNAME:CST
DTSTART:20251102T070000
END:STANDARD
BEGIN:DAYLIGHT
TZOFFSETFROM:-0600
TZOFFSETTO:-0500
TZNAME:CDT
DTSTART:20260308T080000
END:DAYLIGHT
BEGIN:STANDARD
TZOFFSETFROM:-0500
TZOFFSETTO:-0600
TZNAME:CST
DTSTART:20261101T070000
END:STANDARD
END:VTIMEZONE
BEGIN:VEVENT
DTSTART;VALUE=DATE:20251206
DTEND;VALUE=DATE:20251208
DTSTAMP:20260419T163602
CREATED:20241110T210109Z
LAST-MODIFIED:20250728T123152Z
UID:7996-1764979200-1765151999@easttennesseevisitorsguide.com
SUMMARY:Bulls Gap Christmas Bazaar
DESCRIPTION:Bulls Gap Christmas Bazaar\n  December 6-7\n  Saturday 10 AM-5 PM\n  Sunday 12 PM-4 PM
URL:https://easttennesseevisitorsguide.com/event/bulls-gap-christmas-bazaar/
CATEGORIES:Bulls Gap TN Events,Chamber Events,other events
ATTACH;FMTTYPE=image/jpeg:https://easttennesseevisitorsguide.com/wp-content/uploads/2024/11/christmas-bazaar-bulls-gap-tn.jpg
END:VEVENT
BEGIN:VEVENT
DTSTART;TZID=America/Chicago:20251206T110000
DTEND;TZID=America/Chicago:20251206T120000
DTSTAMP:20260419T163602
CREATED:20220608T141140Z
LAST-MODIFIED:20250424T140728Z
UID:6892-1765018800-1765022400@easttennesseevisitorsguide.com
SUMMARY:Church Hill Christmas Parade
DESCRIPTION:Town of Church Hill\nAnnual Christmas Parade\n11:00am Parade Starts\nLine up at 10:00am at Church Hill Senior Center\nfor more information: 423-357-6161
URL:https://easttennesseevisitorsguide.com/event/church-hill-christmas-parade-2/
CATEGORIES:Chamber Events,other events
ATTACH;FMTTYPE=image/jpeg:https://easttennesseevisitorsguide.com/wp-content/uploads/2022/06/638f85dfbdc72.image_.jpg
END:VEVENT
BEGIN:VEVENT
DTSTART;TZID=America/Chicago:20251213T110000
DTEND;TZID=America/Chicago:20251213T120000
DTSTAMP:20260419T163602
CREATED:20220608T142322Z
LAST-MODIFIED:20250424T141225Z
UID:6895-1765623600-1765627200@easttennesseevisitorsguide.com
SUMMARY:Surgoinsville Christmas Parade
DESCRIPTION:Town of Surgoinsville\nInvites You!\nAnnual Christmas Parade\nDowntown Surgoinsville\, Tennessee\nParade starts at 11:00am\nLine up at 10:00am Methodist Church.\nNo Live Animals and there is no sign-up.\nfor more information 423-345-2213
URL:https://easttennesseevisitorsguide.com/event/surgoinsville-christmas-parade-2/
CATEGORIES:Chamber Events,other events
ATTACH;FMTTYPE=image/jpeg:https://easttennesseevisitorsguide.com/wp-content/uploads/2022/06/christmas-parade-tennessee-01.jpg
END:VEVENT
BEGIN:VEVENT
DTSTART;TZID=America/Chicago:20251213T180000
DTEND;TZID=America/Chicago:20251213T190000
DTSTAMP:20260419T163602
CREATED:20220608T141904Z
LAST-MODIFIED:20250424T141344Z
UID:6894-1765648800-1765652400@easttennesseevisitorsguide.com
SUMMARY:Town of Mount Carmel Christmas Parade
DESCRIPTION:Mount Carmel Christmas Parade\nDate: December 13\, 2025\nTime: 6:00 PM\nLocation: Main Street\, Mount Carmel\n\nBased off the feedback from last years night parade\, we are lighting up Main Street again. Get\nready for an evening filled with lights\, floats\, marching bands\, and holiday cheer! The annual\nChristmas Parade will feature local participants spreading holiday joy along Main Street. Don’t\nmiss Santa’s special appearance!\nLineup starts at 5:00 at Hardee’s – contact: 423-357-7311
URL:https://easttennesseevisitorsguide.com/event/town-of-mount-carmet-christmas-parade-2/
CATEGORIES:Chamber Events,other events
ATTACH;FMTTYPE=image/jpeg:https://easttennesseevisitorsguide.com/wp-content/uploads/2022/06/qtq80-Nd5QCR.jpeg
END:VEVENT
END:VCALENDAR