BEGIN:VCALENDAR
VERSION:2.0
PRODID:-//East Tennesee Visitors Guide - ECPv6.15.20//NONSGML v1.0//EN
CALSCALE:GREGORIAN
METHOD:PUBLISH
X-WR-CALNAME:East Tennesee Visitors Guide
X-ORIGINAL-URL:https://easttennesseevisitorsguide.com
X-WR-CALDESC:Events for East Tennesee Visitors Guide
REFRESH-INTERVAL;VALUE=DURATION:PT1H
X-Robots-Tag:noindex
X-PUBLISHED-TTL:PT1H
BEGIN:VTIMEZONE
TZID:America/Chicago
BEGIN:DAYLIGHT
TZOFFSETFROM:-0600
TZOFFSETTO:-0500
TZNAME:CDT
DTSTART:20210314T080000
END:DAYLIGHT
BEGIN:STANDARD
TZOFFSETFROM:-0500
TZOFFSETTO:-0600
TZNAME:CST
DTSTART:20211107T070000
END:STANDARD
BEGIN:DAYLIGHT
TZOFFSETFROM:-0600
TZOFFSETTO:-0500
TZNAME:CDT
DTSTART:20220313T080000
END:DAYLIGHT
BEGIN:STANDARD
TZOFFSETFROM:-0500
TZOFFSETTO:-0600
TZNAME:CST
DTSTART:20221106T070000
END:STANDARD
BEGIN:DAYLIGHT
TZOFFSETFROM:-0600
TZOFFSETTO:-0500
TZNAME:CDT
DTSTART:20230312T080000
END:DAYLIGHT
BEGIN:STANDARD
TZOFFSETFROM:-0500
TZOFFSETTO:-0600
TZNAME:CST
DTSTART:20231105T070000
END:STANDARD
BEGIN:DAYLIGHT
TZOFFSETFROM:-0600
TZOFFSETTO:-0500
TZNAME:CDT
DTSTART:20240310T080000
END:DAYLIGHT
BEGIN:STANDARD
TZOFFSETFROM:-0500
TZOFFSETTO:-0600
TZNAME:CST
DTSTART:20241103T070000
END:STANDARD
END:VTIMEZONE
BEGIN:VTIMEZONE
TZID:UTC
BEGIN:STANDARD
TZOFFSETFROM:+0000
TZOFFSETTO:+0000
TZNAME:UTC
DTSTART:20220101T000000
END:STANDARD
END:VTIMEZONE
BEGIN:VEVENT
DTSTART;TZID=America/Chicago:20230520T100000
DTEND;TZID=America/Chicago:20230520T160000
DTSTAMP:20260419T122353
CREATED:20230406T170846Z
LAST-MODIFIED:20230406T170846Z
UID:6903-1684576800-1684598400@easttennesseevisitorsguide.com
SUMMARY:Relay for Life Talent Show
DESCRIPTION:Relay for Life Talent Show\nRogersville City Park\nMay 20\, 2023\n10am – 4pm \nOpen for 3 age groups \nContact: 423-754-5407
URL:https://easttennesseevisitorsguide.com/event/relay-for-life-talent-show/
CATEGORIES:Chamber Events,Home Page Events
ATTACH;FMTTYPE=image/jpeg:https://easttennesseevisitorsguide.com/wp-content/uploads/2023/05/ice-cream-banner.jpg
END:VEVENT
BEGIN:VEVENT
DTSTART;TZID=UTC:20230422T090000
DTEND;TZID=UTC:20230422T110000
DTSTAMP:20260419T122353
CREATED:20210224T034326Z
LAST-MODIFIED:20210224T034326Z
UID:4447-1682154000-1682161200@easttennesseevisitorsguide.com
SUMMARY:Cherokee Lake Power Clean Up
DESCRIPTION:Cherokee Lake Power Clean Up\nApril 22\, 2023- 9:00-11:00\nSponsored by the Rogersville/Hawkins County Chamber of Commerce\nand Holston Electric Cooperative. \n9:00 a.m. at Quarryville Boat Dock. \nCall 423-272-2186 or 423-272-8821 for more information.
URL:https://easttennesseevisitorsguide.com/event/cherokee-lake-power-clean-up/
CATEGORIES:Chamber Events,other events
ATTACH;FMTTYPE=:
END:VEVENT
BEGIN:VEVENT
DTSTART;TZID=America/Chicago:20230415T080000
DTEND;TZID=America/Chicago:20230415T170000
DTSTAMP:20260419T122353
CREATED:20230330T150713Z
LAST-MODIFIED:20230330T150713Z
UID:6899-1681545600-1681578000@easttennesseevisitorsguide.com
SUMMARY:Annual Laurel Run Ascent
DESCRIPTION:14th Annual Laurel Run Ascent\n2023 RRCA Tennessee State Cross Country Championship\nKing 7 Queen Competition\, Trail Series Competition and long Distance Series\nTaco Bar Catered by Barberitos of Kingsport. Skelton Law Office 423-272-4812
URL:https://easttennesseevisitorsguide.com/event/annual-laurel-run-ascent/
CATEGORIES:Chamber Events,Home Page Events
ATTACH;FMTTYPE=:
END:VEVENT
BEGIN:VEVENT
DTSTART;TZID=UTC:20230101T080000
DTEND;TZID=UTC:20231231T080000
DTSTAMP:20260419T122353
CREATED:20210727T193616Z
LAST-MODIFIED:20230927T151031Z
UID:4610-1672560000-1704009600@easttennesseevisitorsguide.com
SUMMARY:Chamber General Membership Breakfast
DESCRIPTION:The Chamber of Commerce invites you to our \nGENERAL MEMBERSHIP\nBREAKFAST MEETINGS\n2023 CHAMBER YEAR\nJanuary 26\, 2023 – Sponsor: Of One Accord 8:00 am\nOf One Accord/Shepherd’s Center \nCommunity Room\n306 East Main Street\nRogersville\, Tennessee\n8:00 a.m. to 9:00 a.m.\nJoin us for breakfast and a\nchance to network with your\nfellow Chamber members! \nPlease R.S.V.P. \nby Wednesday\, January 25\, 2023 \n———————————————– \nFebruary\nMarch\nApril\nMay\nJune \nJuly\nAugust\nSeptember\nOctober\nNovember\nDecember\n  \n————————————————————————————————— \nWatch for upcoming emails! \nCall the Chamber at (423) 272-2186\nif you wish to host a General Membership Breakfast. \nAll dates\, times\, and locations are subject to change with proper notice.
URL:https://easttennesseevisitorsguide.com/event/chamber-general-membership-breakfast/
CATEGORIES:Chamber Events
ATTACH;FMTTYPE=image/png:https://easttennesseevisitorsguide.com/wp-content/uploads/2021/07/badge190.png
END:VEVENT
BEGIN:VEVENT
DTSTART;TZID=America/Chicago:20221001T160000
DTEND;TZID=America/Chicago:20221001T210000
DTSTAMP:20260419T122353
CREATED:20220523T132948Z
LAST-MODIFIED:20260205T210712Z
UID:6886-1664640000-1664658000@easttennesseevisitorsguide.com
SUMMARY:All Jeep Main Street Show - Back The Blue
DESCRIPTION:3rd Annual “Back The Blue” All Jeep Main Street Show\nMain Street Rogersville\, Tennessee\nBenefiting local law enforcement & first responders\nLive music\, local restaurants\, raffles\, local shops\, vendors\, bounce house for kids and much more!\nAny model Jeep can participate – for registration: Message on Facebook: “All Jeep Main St” or “Back the Blue Fall Crawl”
URL:https://easttennesseevisitorsguide.com/event/all-jeep-main-street-show-back-the-blue-2/
CATEGORIES:Chamber Events,Home Page Events,Rogersville Main Street Events
ATTACH;FMTTYPE=:
END:VEVENT
BEGIN:VEVENT
DTSTART;TZID=America/Chicago:20220502T173000
DTEND;TZID=America/Chicago:20220502T203000
DTSTAMP:20260419T122353
CREATED:20220405T174829Z
LAST-MODIFIED:20220405T174829Z
UID:6881-1651512600-1651523400@easttennesseevisitorsguide.com
SUMMARY:Crockett Spring Free Concert in the Park
DESCRIPTION:Crockett Spring Free Concert in the Park\n5:30 – 8:30\nfor more information contact: 423-272-1961
URL:https://easttennesseevisitorsguide.com/event/crockett-spring-free-concert-in-the-park-2/
CATEGORIES:Chamber Events,Home Page Events,Rogersville Main Street Events
ATTACH;FMTTYPE=:
END:VEVENT
BEGIN:VEVENT
DTSTART;TZID=America/Chicago:20220101T120000
DTEND;TZID=America/Chicago:20221231T130000
DTSTAMP:20260419T122353
CREATED:20220302T152627Z
LAST-MODIFIED:20260205T210452Z
UID:4794-1641038400-1672491600@easttennesseevisitorsguide.com
SUMMARY:Chamber Board Meetings
DESCRIPTION:Chamber Board Meetings 2022\nMeeting are from 12:00 -1:00\nat Chamber Board Room\nMonday\, January 10\, 2022\nMonday February 14\, 2022\nMonday\, March 14\, 2022\nMonday\, April 11\, 2022\nMonday\, May 09\, 2022\nMonday\, June 13\, 2022\nMonday\, July 11\, 2022\nMonday\, August 08\, 2022\nMonday\, September 12\, 2022\nMonday\, October 03\, 2022\nMonday\, November 14\, 2022\nMonday\, December 12\, 2022
URL:https://easttennesseevisitorsguide.com/event/chamber-board-meetings/
CATEGORIES:Chamber Events
ATTACH;FMTTYPE=image/jpeg:https://easttennesseevisitorsguide.com/wp-content/uploads/2026/01/rogersville-hawkins-county-chamber-of-commerce-east-tennessee.jpg
END:VEVENT
END:VCALENDAR