BEGIN:VCALENDAR
VERSION:2.0
PRODID:-//East Tennesee Visitors Guide - ECPv6.15.20//NONSGML v1.0//EN
CALSCALE:GREGORIAN
METHOD:PUBLISH
X-WR-CALNAME:East Tennesee Visitors Guide
X-ORIGINAL-URL:https://easttennesseevisitorsguide.com
X-WR-CALDESC:Events for East Tennesee Visitors Guide
REFRESH-INTERVAL;VALUE=DURATION:PT1H
X-Robots-Tag:noindex
X-PUBLISHED-TTL:PT1H
BEGIN:VTIMEZONE
TZID:UTC
BEGIN:STANDARD
TZOFFSETFROM:+0000
TZOFFSETTO:+0000
TZNAME:UTC
DTSTART:20250101T000000
END:STANDARD
END:VTIMEZONE
BEGIN:VEVENT
DTSTART;TZID=UTC:20260704T170000
DTEND;TZID=UTC:20260704T213000
DTSTAMP:20260420T002445
CREATED:20210504T230507Z
LAST-MODIFIED:20260324T164047Z
UID:4507-1783184400-1783200600@easttennesseevisitorsguide.com
SUMMARY:July 4th Celebration
DESCRIPTION:Rogersville July 4th Celebration\nat Rogersville City Park\n5:00 – 8:00\n————————————– \nJuly 4th Parade\nat 11:00 am\nMain Street in Downtown Rogersville\, Tennessee\nLine up in front east Rogersville Baptist Church at 10:00am. \n  423-272-2186 for parade information
URL:https://easttennesseevisitorsguide.com/event/july-4th-celebration/
CATEGORIES:Chamber Events,Home Page Events
ATTACH;FMTTYPE=image/jpeg:https://easttennesseevisitorsguide.com/wp-content/uploads/2021/05/fireworks.jpg
END:VEVENT
BEGIN:VEVENT
DTSTART;TZID=UTC:20260814T170000
DTEND;TZID=UTC:20260814T200000
DTSTAMP:20260420T002445
CREATED:20210224T034649Z
LAST-MODIFIED:20260324T155516Z
UID:4454-1786726800-1786737600@easttennesseevisitorsguide.com
SUMMARY:Cruise-In On The Square
DESCRIPTION:Cruise In On the Square\nDowtown Rogersville\, Tennessee\nMay 22\, 2026: 5:00 – 8:00\nJune 12\, 2026: 5:00 – 8:00\nJuly 3\, 2026: 5:00 – 8:00\nJuly 25\, 2026: 5:00 – 8:00 (JEEP Jam Show)\nAugust 14\, 2026: 5:00 – 8:00\nSeptember 11\, 2026: 5:00 – 8:00\nOctober 9\, 2026: 6:30 – 9:00 in conjuction with “Heritage Days”\n  \nJOIN US IS BEAUTIFUL HISTORIC ROGERSVILLE FOR CRUISE IN ON THE SQUARE ON MAIN STREET.\nSETUP IS AT 3:00PM with the exception of October 10 Heritage Days setup is 12:00 noon/ STREETS CLOSE AT 4:00 FROM BROWLOWE TO HASSON STREET. \nSHOW OFF YOUR PRE-1989 RIDE\, VISIT THE LOCAL SHOPS\, HAVE DINNER AT ONE OF OUR FINE RESTAURANT OR SIMPLY GET TOGETHER WITH FRIENDS\nLIVE ENTERTAINMENT \nTHIS EVENT IS FREE TO ATTEND OR EXHIBIT PRE-1989 RESTORED VECHILES. DASH PLAQUES TO THE FIRST 50 CARS. CHECK OUT OUR MAIN STREET BOOTH FOR CRUISE IN T-SHIRTS\, TAGS AND VOTE FOR PEOPLE CHOICE TROPHY.\nPLEASE NO PETS\, BICYCLES OR SKATEBOARDS. \nFor more information\, call 423-272-2186
URL:https://easttennesseevisitorsguide.com/event/cruise-in-on-the-square-3/
CATEGORIES:Chamber Events,ETVG Events,Rogersville TN Events
ATTACH;FMTTYPE=image/jpeg:https://easttennesseevisitorsguide.com/wp-content/uploads/2021/02/cruisin00054-300x219-1.jpg
END:VEVENT
BEGIN:VEVENT
DTSTART;TZID=UTC:20260911T170000
DTEND;TZID=UTC:20260911T200000
DTSTAMP:20260420T002445
CREATED:20210224T034736Z
LAST-MODIFIED:20260324T155626Z
UID:4456-1789146000-1789156800@easttennesseevisitorsguide.com
SUMMARY:Cruise-In On The Square
DESCRIPTION:Cruise In On the Square\nDowtown Rogersville\, Tennessee\nMay 22\, 2026: 5:00 – 8:00\nJune 12\, 2026: 5:00 – 8:00\nJuly 3\, 2026: 5:00 – 8:00\nJuly 25\, 2026: 5:00 – 8:00 (JEEP Jam Show)\nAugust 14\, 2026: 5:00 – 8:00\nSeptember 11\, 2026: 5:00 – 8:00\nOctober 9\, 2026: 6:30 – 9:00 in conjuction with “Heritage Days”\n  \nJOIN US IS BEAUTIFUL HISTORIC ROGERSVILLE FOR CRUISE IN ON THE SQUARE ON MAIN STREET.\nSETUP IS AT 3:00PM with the exception of October 10 Heritage Days setup is 12:00 noon/ STREETS CLOSE AT 4:00 FROM BROWLOWE TO HASSON STREET. \nSHOW OFF YOUR PRE-1989 RIDE\, VISIT THE LOCAL SHOPS\, HAVE DINNER AT ONE OF OUR FINE RESTAURANT OR SIMPLY GET TOGETHER WITH FRIENDS\nLIVE ENTERTAINMENT \nTHIS EVENT IS FREE TO ATTEND OR EXHIBIT PRE-1989 RESTORED VECHILES. DASH PLAQUES TO THE FIRST 50 CARS. CHECK OUT OUR MAIN STREET BOOTH FOR CRUISE IN T-SHIRTS\, TAGS AND VOTE FOR PEOPLE CHOICE TROPHY.\nPLEASE NO PETS\, BICYCLES OR SKATEBOARDS. \nFor more information\, call 423-272-2186
URL:https://easttennesseevisitorsguide.com/event/cruise-in-on-the-square-4/
CATEGORIES:Chamber Events,ETVG Events,Rogersville Main Street Events,Rogersville TN Events
ATTACH;FMTTYPE=image/jpeg:https://easttennesseevisitorsguide.com/wp-content/uploads/2021/02/cruisin00113-300x200-1.jpg
END:VEVENT
BEGIN:VEVENT
DTSTART;TZID=UTC:20261009T170000
DTEND;TZID=UTC:20261009T200000
DTSTAMP:20260420T002445
CREATED:20210224T034930Z
LAST-MODIFIED:20260324T155829Z
UID:4460-1791565200-1791576000@easttennesseevisitorsguide.com
SUMMARY:Cruise-In On The Square
DESCRIPTION:Cruise In On the Square\nDowtown Rogersville\, Tennessee\nMay 22\, 2026: 5:00 – 8:00\nJune 12\, 2026: 5:00 – 8:00\nJuly 3\, 2026: 5:00 – 8:00\nJuly 25\, 2026: 5:00 – 8:00 (JEEP Jam Show)\nAugust 14\, 2026: 5:00 – 8:00\nSeptember 11\, 2026: 5:00 – 8:00\nOctober 9\, 2026: 6:30 – 9:00 in conjuction with “Heritage Days”\n  \nJOIN US IS BEAUTIFUL HISTORIC ROGERSVILLE FOR CRUISE IN ON THE SQUARE ON MAIN STREET.\nSETUP IS AT 3:00PM with the exception of October 10 Heritage Days setup is 12:00 noon/ STREETS CLOSE AT 4:00 FROM BROWLOWE TO HASSON STREET. \nSHOW OFF YOUR PRE-1989 RIDE\, VISIT THE LOCAL SHOPS\, HAVE DINNER AT ONE OF OUR FINE RESTAURANT OR SIMPLY GET TOGETHER WITH FRIENDS\nLIVE ENTERTAINMENT \nTHIS EVENT IS FREE TO ATTEND OR EXHIBIT PRE-1989 RESTORED VECHILES. DASH PLAQUES TO THE FIRST 50 CARS. CHECK OUT OUR MAIN STREET BOOTH FOR CRUISE IN T-SHIRTS\, TAGS AND VOTE FOR PEOPLE CHOICE TROPHY.\nPLEASE NO PETS\, BICYCLES OR SKATEBOARDS. \nFor more information\, call 423-272-2186
URL:https://easttennesseevisitorsguide.com/event/cruise-in-on-the-square-5/
CATEGORIES:Chamber Events,ETVG Events,Rogersville TN Events
ATTACH;FMTTYPE=image/jpeg:https://easttennesseevisitorsguide.com/wp-content/uploads/2021/02/cruisin00042-300x200-1.jpg
END:VEVENT
BEGIN:VEVENT
DTSTART;TZID=UTC:20261205T160000
DTEND;TZID=UTC:20261205T180000
DTSTAMP:20260420T002445
CREATED:20210224T035228Z
LAST-MODIFIED:20260324T164736Z
UID:6872-1796486400-1796493600@easttennesseevisitorsguide.com
SUMMARY:Rogersville Christmas Parade
DESCRIPTION:2026 Rogersville Christmas Parade\n  \nYou’re invited to participate in the 2026 \nThe parade will be held in Rogersville on December 6\, 2025 at 4:00 p.m.  Line-up for the parade will begin at 3:00 p.m. in parking lot in front of East Rogersville Baptist Church and Rogersville Middle School.   \nFirst\, second and third place prizes will be awarded to those floats that wish to be judged.  If you would like to have your float entered into the contest\, please be sure to be in the parking lot in front of East Rogersville Baptist Church no later than 2:30 p.m.  Judging will begin at 3:15. Please have your float set up and ready to be judged at this time.   \nThe fire trucks will line up in the Hawkins Elementary parking lot.   \nWith Santa’s annual visit\, Downtown merchants Open House and the tree lighting service on the Courthouse Square\, this year’s celebration promises to be the best yet.  We look forward to a good turnout for the parade and the many activities planned.  Please fill out the entry application and return it to the Chamber of Commerce office no later than December 4\, 2025.  We’ll see you December 6th at 2:30 p.m. at East Rogersville Baptist Church! \nApplication for Rogersville Christmas Parade: click here\nOr call 423-272-2186
URL:https://easttennesseevisitorsguide.com/event/rogersville-christmas-parade-2/
CATEGORIES:Chamber Events,Home Page Events,Rogersville Main Street Events,Rogersville TN Events
ATTACH;FMTTYPE=image/jpeg:https://easttennesseevisitorsguide.com/wp-content/uploads/2021/02/IMG_2677-scaled.jpg
END:VEVENT
BEGIN:VEVENT
DTSTART;TZID=UTC:20261205T170000
DTEND;TZID=UTC:20261205T180000
DTSTAMP:20260420T002445
CREATED:20201025T193141Z
LAST-MODIFIED:20260324T164853Z
UID:3661-1796490000-1796493600@easttennesseevisitorsguide.com
SUMMARY:CHRISTMAS TREE LIGHTING COURTHOUSE SQUARE
DESCRIPTION:Rogersville Christmas Tree Lighting\nHawkins County Courthouse lawn\nDecember 5\, 2026\nTime:  5:30 – Immediately following the Christmas Parade\nEntertainment By:  TBA
URL:https://easttennesseevisitorsguide.com/event/christmas-tree-lighting-courthouse-square/
CATEGORIES:Chamber Events,ETVG Events,Rogersville TN Events
ATTACH;FMTTYPE=image/jpeg:https://easttennesseevisitorsguide.com/wp-content/uploads/2020/10/christmas-tree-lighting-300x200-1.jpg
END:VEVENT
END:VCALENDAR