BEGIN:VCALENDAR
VERSION:2.0
PRODID:-//East Tennesee Visitors Guide - ECPv6.15.20//NONSGML v1.0//EN
CALSCALE:GREGORIAN
METHOD:PUBLISH
X-WR-CALNAME:East Tennesee Visitors Guide
X-ORIGINAL-URL:https://easttennesseevisitorsguide.com
X-WR-CALDESC:Events for East Tennesee Visitors Guide
REFRESH-INTERVAL;VALUE=DURATION:PT1H
X-Robots-Tag:noindex
X-PUBLISHED-TTL:PT1H
BEGIN:VTIMEZONE
TZID:America/Chicago
BEGIN:DAYLIGHT
TZOFFSETFROM:-0600
TZOFFSETTO:-0500
TZNAME:CDT
DTSTART:20220313T080000
END:DAYLIGHT
BEGIN:STANDARD
TZOFFSETFROM:-0500
TZOFFSETTO:-0600
TZNAME:CST
DTSTART:20221106T070000
END:STANDARD
BEGIN:DAYLIGHT
TZOFFSETFROM:-0600
TZOFFSETTO:-0500
TZNAME:CDT
DTSTART:20230312T080000
END:DAYLIGHT
BEGIN:STANDARD
TZOFFSETFROM:-0500
TZOFFSETTO:-0600
TZNAME:CST
DTSTART:20231105T070000
END:STANDARD
BEGIN:DAYLIGHT
TZOFFSETFROM:-0600
TZOFFSETTO:-0500
TZNAME:CDT
DTSTART:20240310T080000
END:DAYLIGHT
BEGIN:STANDARD
TZOFFSETFROM:-0500
TZOFFSETTO:-0600
TZNAME:CST
DTSTART:20241103T070000
END:STANDARD
END:VTIMEZONE
BEGIN:VTIMEZONE
TZID:UTC
BEGIN:STANDARD
TZOFFSETFROM:+0000
TZOFFSETTO:+0000
TZNAME:UTC
DTSTART:20220101T000000
END:STANDARD
END:VTIMEZONE
BEGIN:VEVENT
DTSTART;VALUE=DATE:20230401
DTEND;VALUE=DATE:20240101
DTSTAMP:20260421T085735
CREATED:20230330T151959Z
LAST-MODIFIED:20230927T150845Z
UID:6900-1680307200-1704067199@easttennesseevisitorsguide.com
SUMMARY:Local Artists Gallery Events
DESCRIPTION:April 1\, 8\, 15\, 22\, 29: Local Artist Gallery Art Classes by Instructor Monica Byington from 1:00-3:00. Cost of classes plus supplies is $10. Classes will cover oils\, acrylics\, or pastel painting. Beginners welcome. For more information call 865-317-4790 \nApril 5\, 12\, 19\, 26 Local Artist Gallery Art Classes by Instructor Monica Byington from 2:00-4:00. Cost of classes plus supplies is $10. Classes will cover oils\, acrylics\, or pastel painting. Beginners\nwelcome. For more information call 865-317-4790 \nApril 1\, 8\, 15\, 22\, 29 Local Artist Gallery Children’s Art Classes by instructors Caleb King from 10:30-12:30. Cost of each class is $10. 00. All materials are provided. For more information call 865-317- 4790 \nApril 5\, 12\, 19\, 26 Local Artist Gallery Teen Art Classes- Instructor Donna Goins cost $10.00 all supplies provided except canvas. 865-317-4790. \nApril 1\,8\,15\,22\,29 Local Artist Gallery Teen Art Classes Instructor Donna Goins cost $10.00 all supplies provided except canvas. 865-317-4790. Saturday 3-5PM. \nMay 6\, 13\, 20\, 27: Local Artist Gallery Art Classes by Instructor Monica Byington from 1:00-3:00. Cost of classes plus supplies is $10. Classes will cover oils\, acrylics\, or pastel painting. Beginners\nwelcome. For more information call 865-317-4790 \nMay 3\, 10\, 17\, 24\, 31:  Local Artist Gallery Art Classes by Instructor Monica Byington from 2:00-4:00. Cost of\nclasses plus supplies is $10. Classes will cover oils\, acrylics\, or pastel painting. Beginners\nwelcome. For more information call 865-317-4790 \nMay 6\, 1\, 13\, 20\, 27 : Local Artist Gallery Children Art Classes by instructors Caleb King Saturdays 10:30-12:30. Cost of Class is $10.00 Call 865-317-4790 \nMay 3\, 10\, 17\, 24\, 31:  Local Artist Gallery Teen Art Classes Instructor Donna Goins cost $10.00 all supplies provided except canvas. 865-317-4790 \nMay 6\, 13\, 20\, 27 Local Artist Gallery Teen Art Classes Instructor Donna Goins cost $10.00 all supplies provided except canvas. 865-317-4790. Saturday Class 3:00-5:00 \nJune 3\, 10\, 17\, 24: Local Artist Gallery Art Classes by Instructor Monica Byington from 1:00-3:00\, Saturday classes. Cost of classes plus supplies is $10. Classes will cover oils\, acrylics\, or pastel painting. Beginners welcome. For more information call 865-317-4790 \nJune 7\, 14\, 21\, 28: Local Artist Gallery Art Classes by Instructor Monica Byington from 2:00-4:00\, Wednesday Classes. Cost of classes plus supplies is $10. Classes will cover oils\, acrylics\, or\npastel painting. Beginners welcome. For more information call 865-317-4790 \nJune 3\, 10\, 17\, 24: Local Artist Gallery Children Art Classes by instructors Caleb King From 10:30-12:30. Cost of each class is $10.00. All materials are provided. For more information call 865-317- 4790 \nJune 7\,14\,21\,28: Local Artist Gallery Teen Art Classes Instructor Donna Goins cost $10.00 all supplies provided except canvas. 865-317-4790 \nJune 3\,10\,17\,24: Local Artist Gallery Teen Art Classes Instructor Donna Goins cost $10.00 all supplies provided except canvas. 865-317-4790 Saturday Class \nJuly 1\, 8\, 15\, 22\, 29: Local Artist Gallery Art Classes by Instructor Monica Byington from 1:00-3:00. Cost of classes plus supplies is $10. Classes will cover oils\, acrylics\, or pastel painting. Beginners welcome. 865-317-4790 \nJuly 5\, 12\, 19\, 26: Local Artist Gallery Art Classes by Instructor Monica Byington from 2:00-4:00. Cost of classes plus supplies is $10. Classes will cover oils\, acrylics\, or pastel painting. Beginners\nwelcome. 865-317-4790 \nJuly 1\, 8\, 15\, 22\, 29:  Local Artist Gallery Children Art Classes by instructor Caleb King From 10:30-12:30. Cost of each class is $10.00. All materials are provided. 865-317-4790 \nJuly 5\, 12\, 19 \,26:  Local Artist Gallery Teen Art Classes Instructor Donna Goins cost $10.00 all supplies provided except canvas. 865-317-4790 \nJuly 1\, 8\, 15\,22 \,29 Local Artist Gallery Teen Art Classes Instructor Donna Goins cost $10.00 all supplies provided except canvas. 865-317-4790 \nAugust 5\, 12\, 19\, 26 Local Artist Gallery Art Classes by Instructor Monica Byington from 1:00-3:00. Cost of classes plus supplies is $10. Classes will cover oils\, acrylics\, or pastel painting. Beginners\nwelcome. For more information call 865-317-4790 \nAugust 2\, 9\, 16\, 23\, 30 Local Artist Gallery Art Classes by Instructor Monica Byington from 2:00-4:00. Cost of classes plus supplies is $10. Classes will cover oils\, acrylics\, or pastel painting. Beginners welcome. For more information call 865-317-4790 \nAugust 5\, 12\, 19\, 26 Local Artist Gallery Children Art Classes by instructor Caleb King . From 10:00-12:00. Cost of each class is $10.00. All materials are provided. For more information call 865-317-4790 \nAugust 2\, 9\, 16\, 23\, 30 Local Artist Gallery Teen Art Classes Instructor Donna Goins cost $10.00 all supplies provided except canvas. 865-317-4790 \nAugust 5\, 12\, 19\, 26 Local Artist Gallery Teen Art Classes Instructor Donna Goins cost $10.00 all supplies provided except canvas. 865-317-4790. Saturday 3:00 -5:00 \nSeptember 2\, 9\, 16\, 23\,30 Local Artist Gallery Art Classes by Instructor Monica Byington from 1:00-3:00. Cost of classes plus supplies is $10. Classes will cover oils\, acrylics\, or pastel painting.\nBeginners welcome. 865-317-4790 \nSeptember 6\, 13\, 20\, 27 Local Artist Gallery Art Classes by Instructor Monica Byington from 2:00-4:00. Cost of classes plus supplies is $10. Classes will cover oils\, acrylics\, or pastel painting. Beginners welcome. For more information call 865-317-4790 \nSeptember 2\, 9\, 16\, 23\, 30 Local Artist Gallery Children Art Classes by instructor Caleb King From 10:30- 12:30. Cost of each class is $10.00. All materials are provided. For more information call\n865-317-4790 \nSeptember 6\, 13\, 20\, 27 Local Artist Gallery Teen Art Classes Instructor Donna Goins cost $10.00 all supplies provided except canvas. 865-317-4790 \nSeptember 2\, 9\, 16\, 23\, 30 Local Artist Gallery Teen Art Classes Instructor Donna Goins cost $10.00 all supplies provided except canvas. 865-317-4790. Saturday 3:00- 5:00pm \nOctober 7\, 14\, 21\, 28 Local Artist Gallery Art Classes by Instructor Monica Byington from 1:00-3:00. Cost of classes plus supplies is $10. Classes will cover oils\, acrylics\, or pastel painting. Beginners welcome. For more information call 865-317-4790 \nOctober 4\, 11\, 18\, 25 Local Artist Gallery Art Classes by Instructor Monica Byington from 2:00-4:00. Cost of classes plus supplies is $10. Classes will cover oils\, acrylics\, or pastel painting. Beginners welcome. For more information call 865-317-4790 \nOctober 7\,14\,21\,28 Local Artist Gallery Children Art Classes by instructor Caleb KIng. From 10:30-12:30. Cost of each class is $10.oo. All materials are provided. For more information call 865-317- 4790 \nOctober 4\, 11\, 18\, 25 Local Artist Gallery Teen Art Classes Instructor Donna Goins cost $10.00 all supplies provided except canvas. 865-317-4790 \nOctober 7\, 14\, 21\, 28\, Local Artist Gallery Teen Art Classes Instructor Donna Goins cost $10.00 all supplies provided except canvas. 865-317-4790. Saturday 3:00-5:00 \nNovember 4\, 11\, 18\, 25 Local Artist Gallery Art Classes by Instructor Monica Byington from 1:00-3:00. Cost of classes plus supplies is $10. Classes will cover oils\, acrylics\, or pastel painting. Beginners welcome. For more information call 865-317-4790 \nNovember 1\, 8\, 15\, 22\, 29 Local Artist Gallery Art Classes by Instructor Monica Byington from 2:00-4:00. Cost of classes plus supplies is $10. Classes will cover oils\, acrylics\, or pastel painting.\nBeginners welcome. 865-317-4790 \nNovember 4\, 11\, 18\, 25 Local Artist Gallery Children Art Classes by instructor Caleb King. From 10:30-12:30. Cost of each class is $10.00. All materials are provided. For more information call\n865-317-4790 \nNovember 1\, 8\,15\, 22\, 29 Local Artist Gallery Teen Art Classes Instructor Donna Goins cost $10.00 all supplies provided except canvas. 865-317-4790 \nNovember 4\, 11\,18\, 25 Local Artist Gallery Teen Art Classes Instructor Donna Goins cost $10.00 all supplies provided except canvas. 865-317-4790. Saturday 3:00-5:00 \nDecember 2\, 9\, 16\, 23\, 30 Local Artist Gallery Art Classes by Instructor Monica Byington from 1:00-3:00. Cost of classes plus supplies is $10. Classes will cover oils\, acrylics\, or pastel painting.\nBeginners welcome. For more information call 865-317-4790 \nDecember 6\, 13\, 20\, 27 Local Artist Gallery Art Classes by Instructor Monica Byington from 2:00-4:00. Cost of classes plus supplies is $10. Classes will cover oils\, acrylics\, or pastel painting. Beginners welcome. For more information call 865-317-4790 \nDecember 2\, 9\, 16\, 23\, 30 Local Artist Gallery Children Art Classes by instructor Caleb KIng. From 10:00- 12:00. Cost of each class is $10.00 All materials are provided. For more information call\n865-317-4790 \nDecember 6\, 13\, 20\, 27 Local Artist Gallery Teen Art Classes Instructor Donna Goins cost $10.00 all supplies provided except canvas. 865-317-4790 \nDecember 2\, 9\, 16\, 23\, 30 Local Artist Gallery Teen Art Classes Instructor Donna Goins cost $10.00 all supplies provided except canvas. 865-317-4790. Saturday 3:00-5:00
URL:https://easttennesseevisitorsguide.com/event/local-artists-gallery-events/
CATEGORIES:other events
ATTACH;FMTTYPE=image/jpeg:https://easttennesseevisitorsguide.com/wp-content/uploads/2023/03/local-artists-gallery-rogersville.jpg
END:VEVENT
BEGIN:VEVENT
DTSTART;TZID=UTC:20231202T120000
DTEND;TZID=UTC:20231202T150000
DTSTAMP:20260421T085735
CREATED:20210224T035315Z
LAST-MODIFIED:20230915T162131Z
UID:6874-1701518400-1701529200@easttennesseevisitorsguide.com
SUMMARY:The Elf Shop
DESCRIPTION:The Elf Shop\n 12:00-3:00\n@ The Chamber office\, 110 East Kyle Street.\nShopping experience for children to purchase gifts from $1-$5 includes gift wrap.\nWrite a letter to Santa or dropped off their letter in the special North Pole mail box with return address included\, Santa will send a reply.\nFor information call 423-272-2186
URL:https://easttennesseevisitorsguide.com/event/the-elf-shop-2/
CATEGORIES:Home Page Events,other events
ATTACH;FMTTYPE=image/jpeg:https://easttennesseevisitorsguide.com/wp-content/uploads/2021/02/qtq80-9M6udv-2.jpeg
END:VEVENT
END:VCALENDAR