BEGIN:VCALENDAR
VERSION:2.0
PRODID:-//East Tennesee Visitors Guide - ECPv6.15.20//NONSGML v1.0//EN
CALSCALE:GREGORIAN
METHOD:PUBLISH
X-ORIGINAL-URL:https://easttennesseevisitorsguide.com
X-WR-CALDESC:Events for East Tennesee Visitors Guide
REFRESH-INTERVAL;VALUE=DURATION:PT1H
X-Robots-Tag:noindex
X-PUBLISHED-TTL:PT1H
BEGIN:VTIMEZONE
TZID:America/Chicago
BEGIN:DAYLIGHT
TZOFFSETFROM:-0600
TZOFFSETTO:-0500
TZNAME:CDT
DTSTART:20240310T080000
END:DAYLIGHT
BEGIN:STANDARD
TZOFFSETFROM:-0500
TZOFFSETTO:-0600
TZNAME:CST
DTSTART:20241103T070000
END:STANDARD
BEGIN:DAYLIGHT
TZOFFSETFROM:-0600
TZOFFSETTO:-0500
TZNAME:CDT
DTSTART:20250309T080000
END:DAYLIGHT
BEGIN:STANDARD
TZOFFSETFROM:-0500
TZOFFSETTO:-0600
TZNAME:CST
DTSTART:20251102T070000
END:STANDARD
BEGIN:DAYLIGHT
TZOFFSETFROM:-0600
TZOFFSETTO:-0500
TZNAME:CDT
DTSTART:20260308T080000
END:DAYLIGHT
BEGIN:STANDARD
TZOFFSETFROM:-0500
TZOFFSETTO:-0600
TZNAME:CST
DTSTART:20261101T070000
END:STANDARD
END:VTIMEZONE
BEGIN:VEVENT
DTSTART;TZID=America/Chicago:20250726T100000
DTEND;TZID=America/Chicago:20250726T160000
DTSTAMP:20260420T031658
CREATED:20230609T132458Z
LAST-MODIFIED:20250630T132256Z
UID:6759-1753524000-1753545600@easttennesseevisitorsguide.com
SUMMARY:Jeep Fest at The Farm
DESCRIPTION:Jeep Fest at The Farm – It’s On!\n229 North VFW Road\nBulls Gap\, Tennessee\n11:00am – 4:00pm\nNo Entry Fee \nMore Information: 423-235-5216
URL:https://easttennesseevisitorsguide.com/event/jeep-fest-at-the-farm/
CATEGORIES:Home Page Events,other events
END:VEVENT
END:VCALENDAR