BEGIN:VCALENDAR
VERSION:2.0
PRODID:-//East Tennesee Visitors Guide - ECPv6.15.20//NONSGML v1.0//EN
CALSCALE:GREGORIAN
METHOD:PUBLISH
X-ORIGINAL-URL:https://easttennesseevisitorsguide.com
X-WR-CALDESC:Events for East Tennesee Visitors Guide
REFRESH-INTERVAL;VALUE=DURATION:PT1H
X-Robots-Tag:noindex
X-PUBLISHED-TTL:PT1H
BEGIN:VTIMEZONE
TZID:America/Chicago
BEGIN:DAYLIGHT
TZOFFSETFROM:-0600
TZOFFSETTO:-0500
TZNAME:CDT
DTSTART:20230312T080000
END:DAYLIGHT
BEGIN:STANDARD
TZOFFSETFROM:-0500
TZOFFSETTO:-0600
TZNAME:CST
DTSTART:20231105T070000
END:STANDARD
BEGIN:DAYLIGHT
TZOFFSETFROM:-0600
TZOFFSETTO:-0500
TZNAME:CDT
DTSTART:20240310T080000
END:DAYLIGHT
BEGIN:STANDARD
TZOFFSETFROM:-0500
TZOFFSETTO:-0600
TZNAME:CST
DTSTART:20241103T070000
END:STANDARD
BEGIN:DAYLIGHT
TZOFFSETFROM:-0600
TZOFFSETTO:-0500
TZNAME:CDT
DTSTART:20250309T080000
END:DAYLIGHT
BEGIN:STANDARD
TZOFFSETFROM:-0500
TZOFFSETTO:-0600
TZNAME:CST
DTSTART:20251102T070000
END:STANDARD
END:VTIMEZONE
BEGIN:VEVENT
DTSTART;TZID=America/Chicago:20241202T180000
DTEND;TZID=America/Chicago:20241202T190000
DTSTAMP:20260420T153113
CREATED:20230809T152702Z
LAST-MODIFIED:20241122T160648Z
UID:6914-1733162400-1733166000@easttennesseevisitorsguide.com
SUMMARY:Mount Carmel Holiday Tree Lighting
DESCRIPTION:Mount Carmel Christmas Tree Lighting\nDate: December 2\, 2024\nTime: 6:00 PM\nLocation: Main Street\nKick off the holiday season with the lighting of Mount Carmel’s Christmas tree! This magical\nevent will feature twinkling lights\, holiday music\, and the warmth of the community coming\ntogether to celebrate the start of the season. Mount Carmel Elementary Fourth grade students\nwill be preforming\, as well as other special guests.
URL:https://easttennesseevisitorsguide.com/event/mount-carmel-holiday-tree-lighting/
CATEGORIES:Home Page Events,other events
END:VEVENT
END:VCALENDAR