BEGIN:VCALENDAR
VERSION:2.0
PRODID:-//East Tennesee Visitors Guide - ECPv6.15.20//NONSGML v1.0//EN
CALSCALE:GREGORIAN
METHOD:PUBLISH
X-ORIGINAL-URL:https://easttennesseevisitorsguide.com
X-WR-CALDESC:Events for East Tennesee Visitors Guide
REFRESH-INTERVAL;VALUE=DURATION:PT1H
X-Robots-Tag:noindex
X-PUBLISHED-TTL:PT1H
BEGIN:VTIMEZONE
TZID:America/Chicago
BEGIN:DAYLIGHT
TZOFFSETFROM:-0600
TZOFFSETTO:-0500
TZNAME:CDT
DTSTART:20240310T080000
END:DAYLIGHT
BEGIN:STANDARD
TZOFFSETFROM:-0500
TZOFFSETTO:-0600
TZNAME:CST
DTSTART:20241103T070000
END:STANDARD
BEGIN:DAYLIGHT
TZOFFSETFROM:-0600
TZOFFSETTO:-0500
TZNAME:CDT
DTSTART:20250309T080000
END:DAYLIGHT
BEGIN:STANDARD
TZOFFSETFROM:-0500
TZOFFSETTO:-0600
TZNAME:CST
DTSTART:20251102T070000
END:STANDARD
BEGIN:DAYLIGHT
TZOFFSETFROM:-0600
TZOFFSETTO:-0500
TZNAME:CDT
DTSTART:20260308T080000
END:DAYLIGHT
BEGIN:STANDARD
TZOFFSETFROM:-0500
TZOFFSETTO:-0600
TZNAME:CST
DTSTART:20261101T070000
END:STANDARD
END:VTIMEZONE
BEGIN:VEVENT
DTSTART;TZID=America/Chicago:20250503T080000
DTEND;TZID=America/Chicago:20250630T170000
DTSTAMP:20260420T075648
CREATED:20250423T135944Z
LAST-MODIFIED:20250423T135944Z
UID:8087-1746259200-1751302800@easttennesseevisitorsguide.com
SUMMARY:Artwork by "Cas"
DESCRIPTION:Artwork by “Cas”\nArchie Campbell Museum\nBulls Gap\, Tennessee\nMay 3 – June 30\, 2025\nOpen: 9:00am – 4:00pm \ninformation: 423-235-5216
URL:https://easttennesseevisitorsguide.com/event/artwork-by-cas/
CATEGORIES:Bulls Gap TN Events,other events
ATTACH;FMTTYPE=image/gif:https://easttennesseevisitorsguide.com/wp-content/uploads/2023/02/bulls-gap-tn-logo-2.gif
END:VEVENT
BEGIN:VEVENT
DTSTART;TZID=America/Chicago:20250505T110000
DTEND;TZID=America/Chicago:20250505T130000
DTSTAMP:20260420T075648
CREATED:20220303T144808Z
LAST-MODIFIED:20250423T134001Z
UID:4823-1746442800-1746450000@easttennesseevisitorsguide.com
SUMMARY:Rogersville Heritage Assoc. Salad Luncheon
DESCRIPTION:Rogersville Heritage Association Salad Luncheon\n11:00 am – 1:00pm.\n$10 Donation\n Tickets available at the door  \nFor more information call 423-272-1961 or email directorrogersvilleheritage.org
URL:https://easttennesseevisitorsguide.com/event/rogersville-heritage-assoc-salad-luncheon/
CATEGORIES:Home Page Events,other events
ATTACH;FMTTYPE=image/jpeg:https://easttennesseevisitorsguide.com/wp-content/uploads/2022/03/soup_and_sandwich_luncheon.jpg
END:VEVENT
END:VCALENDAR