BEGIN:VCALENDAR
VERSION:2.0
PRODID:-//East Tennesee Visitors Guide - ECPv6.15.20//NONSGML v1.0//EN
CALSCALE:GREGORIAN
METHOD:PUBLISH
X-WR-CALNAME:East Tennesee Visitors Guide
X-ORIGINAL-URL:https://easttennesseevisitorsguide.com
X-WR-CALDESC:Events for East Tennesee Visitors Guide
REFRESH-INTERVAL;VALUE=DURATION:PT1H
X-Robots-Tag:noindex
X-PUBLISHED-TTL:PT1H
BEGIN:VTIMEZONE
TZID:America/Chicago
BEGIN:DAYLIGHT
TZOFFSETFROM:-0600
TZOFFSETTO:-0500
TZNAME:CDT
DTSTART:20210314T080000
END:DAYLIGHT
BEGIN:STANDARD
TZOFFSETFROM:-0500
TZOFFSETTO:-0600
TZNAME:CST
DTSTART:20211107T070000
END:STANDARD
BEGIN:DAYLIGHT
TZOFFSETFROM:-0600
TZOFFSETTO:-0500
TZNAME:CDT
DTSTART:20220313T080000
END:DAYLIGHT
BEGIN:STANDARD
TZOFFSETFROM:-0500
TZOFFSETTO:-0600
TZNAME:CST
DTSTART:20221106T070000
END:STANDARD
BEGIN:DAYLIGHT
TZOFFSETFROM:-0600
TZOFFSETTO:-0500
TZNAME:CDT
DTSTART:20230312T080000
END:DAYLIGHT
BEGIN:STANDARD
TZOFFSETFROM:-0500
TZOFFSETTO:-0600
TZNAME:CST
DTSTART:20231105T070000
END:STANDARD
BEGIN:DAYLIGHT
TZOFFSETFROM:-0600
TZOFFSETTO:-0500
TZNAME:CDT
DTSTART:20240310T080000
END:DAYLIGHT
BEGIN:STANDARD
TZOFFSETFROM:-0500
TZOFFSETTO:-0600
TZNAME:CST
DTSTART:20241103T070000
END:STANDARD
BEGIN:DAYLIGHT
TZOFFSETFROM:-0600
TZOFFSETTO:-0500
TZNAME:CDT
DTSTART:20250309T080000
END:DAYLIGHT
BEGIN:STANDARD
TZOFFSETFROM:-0500
TZOFFSETTO:-0600
TZNAME:CST
DTSTART:20251102T070000
END:STANDARD
BEGIN:DAYLIGHT
TZOFFSETFROM:-0600
TZOFFSETTO:-0500
TZNAME:CDT
DTSTART:20260308T080000
END:DAYLIGHT
BEGIN:STANDARD
TZOFFSETFROM:-0500
TZOFFSETTO:-0600
TZNAME:CST
DTSTART:20261101T070000
END:STANDARD
END:VTIMEZONE
BEGIN:VTIMEZONE
TZID:UTC
BEGIN:STANDARD
TZOFFSETFROM:+0000
TZOFFSETTO:+0000
TZNAME:UTC
DTSTART:20220101T000000
END:STANDARD
END:VTIMEZONE
BEGIN:VEVENT
DTSTART;TZID=America/Chicago:20250510T130000
DTEND;TZID=America/Chicago:20250510T160000
DTSTAMP:20260419T150502
CREATED:20220405T180216Z
LAST-MODIFIED:20250423T134606Z
UID:6882-1746882000-1746892800@easttennesseevisitorsguide.com
SUMMARY:Bulls Gap Cruise In at the Farm
DESCRIPTION:Bulls Gap Cruise In at the Farm\nBulls Gap City Park\n285 N. VFW Road\nBulls Gap\, TN \n1:00 – 4:00\nOpen Show \ncontact: 423-235-5216
URL:https://easttennesseevisitorsguide.com/event/bulls-gap-cruise-in-gap-and-swap-meet-2/
CATEGORIES:Bulls Gap TN Events,ETVG Events,other events
END:VEVENT
BEGIN:VEVENT
DTSTART;TZID=America/Chicago:20250505T110000
DTEND;TZID=America/Chicago:20250505T130000
DTSTAMP:20260419T150502
CREATED:20220303T144808Z
LAST-MODIFIED:20250423T134001Z
UID:4823-1746442800-1746450000@easttennesseevisitorsguide.com
SUMMARY:Rogersville Heritage Assoc. Salad Luncheon
DESCRIPTION:Rogersville Heritage Association Salad Luncheon\n11:00 am – 1:00pm.\n$10 Donation\n Tickets available at the door  \nFor more information call 423-272-1961 or email directorrogersvilleheritage.org
URL:https://easttennesseevisitorsguide.com/event/rogersville-heritage-assoc-salad-luncheon/
CATEGORIES:Home Page Events,other events
ATTACH;FMTTYPE=image/jpeg:https://easttennesseevisitorsguide.com/wp-content/uploads/2022/03/soup_and_sandwich_luncheon.jpg
END:VEVENT
BEGIN:VEVENT
DTSTART;TZID=America/Chicago:20250503T080000
DTEND;TZID=America/Chicago:20250630T170000
DTSTAMP:20260419T150502
CREATED:20250423T135944Z
LAST-MODIFIED:20250423T135944Z
UID:8087-1746259200-1751302800@easttennesseevisitorsguide.com
SUMMARY:Artwork by "Cas"
DESCRIPTION:Artwork by “Cas”\nArchie Campbell Museum\nBulls Gap\, Tennessee\nMay 3 – June 30\, 2025\nOpen: 9:00am – 4:00pm \ninformation: 423-235-5216
URL:https://easttennesseevisitorsguide.com/event/artwork-by-cas/
CATEGORIES:Bulls Gap TN Events,other events
ATTACH;FMTTYPE=image/gif:https://easttennesseevisitorsguide.com/wp-content/uploads/2023/02/bulls-gap-tn-logo-2.gif
END:VEVENT
BEGIN:VEVENT
DTSTART;TZID=America/Chicago:20241221T080000
DTEND;TZID=America/Chicago:20241221T170000
DTSTAMP:20260419T150502
CREATED:20230915T160644Z
LAST-MODIFIED:20241122T160600Z
UID:6917-1734768000-1734800400@easttennesseevisitorsguide.com
SUMMARY:Mount Carmel Santa Run
DESCRIPTION:59th Annual Santa Run\nDate: December 21\, 2024\nTime: Starting at 8:00 AM\nLocation: City Wide\nSanta is coming to town! The Mount Carmel Fire Department will escort Santa throughout the\ncommunity\, spreading Christmas cheer and passing out candy to all. Keep an eye out for Santa\nas he visits neighborhoods to wish everyone a Merry Christmas.\nThese cherished traditions are a wonderful opportunity for residents and visitors to celebrate\nthe season together. Whether it’s marveling at the Christmas tree\, enjoying the festive parade\,\nor greeting Santa on his special run\, there’s something for everyone to enjoy.\nFor more information\, please contact Mount Carmel Town Hall at (423) 357-7311 or visit our\nwebsite at www.mountcarmeltn.gov.
URL:https://easttennesseevisitorsguide.com/event/mount-carmel-santa-run/
CATEGORIES:Chamber Events,other events
ATTACH;FMTTYPE=image/png:https://easttennesseevisitorsguide.com/wp-content/uploads/2023/09/santa-run.png
END:VEVENT
BEGIN:VEVENT
DTSTART;TZID=America/Chicago:20241215T140000
DTEND;TZID=America/Chicago:20241215T170000
DTSTAMP:20260419T150502
CREATED:20220608T140750Z
LAST-MODIFIED:20241110T211722Z
UID:6891-1734271200-1734282000@easttennesseevisitorsguide.com
SUMMARY:Cookies with Santa
DESCRIPTION:Cookies with Santa\n\n\n\n\nSunday December 15\, 2024\nHale Springs Inn\n2:00pm & 4:00pm \nPhotos\, Cookies\, Crafts\, Storytime \nTickets can be purchased in-person at The Depot\nMonday – Friday 9:00am – 4:00pm \nTo purchase tickets – Tap Here
URL:https://easttennesseevisitorsguide.com/event/cookies-with-santa/
CATEGORIES:Chamber Events,other events,Rogersville Main Street Events,Rogersville TN Events
ATTACH;FMTTYPE=image/jpeg:https://easttennesseevisitorsguide.com/wp-content/uploads/2022/06/Red-and-Green-Santa-Claus-Meet-and-Greet-Christmas-Event-Poster-Facebook-Post_1729259657.jpeg
END:VEVENT
BEGIN:VEVENT
DTSTART;TZID=America/Chicago:20241202T180000
DTEND;TZID=America/Chicago:20241202T190000
DTSTAMP:20260419T150502
CREATED:20230809T152702Z
LAST-MODIFIED:20241122T160648Z
UID:6914-1733162400-1733166000@easttennesseevisitorsguide.com
SUMMARY:Mount Carmel Holiday Tree Lighting
DESCRIPTION:Mount Carmel Christmas Tree Lighting\nDate: December 2\, 2024\nTime: 6:00 PM\nLocation: Main Street\nKick off the holiday season with the lighting of Mount Carmel’s Christmas tree! This magical\nevent will feature twinkling lights\, holiday music\, and the warmth of the community coming\ntogether to celebrate the start of the season. Mount Carmel Elementary Fourth grade students\nwill be preforming\, as well as other special guests.
URL:https://easttennesseevisitorsguide.com/event/mount-carmel-holiday-tree-lighting/
CATEGORIES:Home Page Events,other events
END:VEVENT
BEGIN:VEVENT
DTSTART;TZID=America/Chicago:20241129T180000
DTEND;TZID=America/Chicago:20241129T200000
DTSTAMP:20260419T150502
CREATED:20230809T153621Z
LAST-MODIFIED:20241127T143636Z
UID:6915-1732903200-1732910400@easttennesseevisitorsguide.com
SUMMARY:Bulls Gap Christmas Tree Lighting
DESCRIPTION:Bulls Gap Christmas Tree Lighting\nThe Bulls Gap Park “The Farm”\, Tennessee\n6:00pm\nFor more information call 423-235-5216
URL:https://easttennesseevisitorsguide.com/event/bulls-gap-christmas-tree-lighting/
CATEGORIES:Home Page Events,other events
ATTACH;FMTTYPE=image/jpeg:https://easttennesseevisitorsguide.com/wp-content/uploads/2023/08/qtq80-wQYWd8.jpeg
END:VEVENT
BEGIN:VEVENT
DTSTART;TZID=UTC:20231202T120000
DTEND;TZID=UTC:20231202T150000
DTSTAMP:20260419T150502
CREATED:20210224T035315Z
LAST-MODIFIED:20230915T162131Z
UID:6874-1701518400-1701529200@easttennesseevisitorsguide.com
SUMMARY:The Elf Shop
DESCRIPTION:The Elf Shop\n 12:00-3:00\n@ The Chamber office\, 110 East Kyle Street.\nShopping experience for children to purchase gifts from $1-$5 includes gift wrap.\nWrite a letter to Santa or dropped off their letter in the special North Pole mail box with return address included\, Santa will send a reply.\nFor information call 423-272-2186
URL:https://easttennesseevisitorsguide.com/event/the-elf-shop-2/
CATEGORIES:Home Page Events,other events
ATTACH;FMTTYPE=image/jpeg:https://easttennesseevisitorsguide.com/wp-content/uploads/2021/02/qtq80-9M6udv-2.jpeg
END:VEVENT
BEGIN:VEVENT
DTSTART;TZID=America/Chicago:20231125T100000
DTEND;TZID=America/Chicago:20231125T170000
DTSTAMP:20260419T150502
CREATED:20230809T152200Z
LAST-MODIFIED:20230915T161726Z
UID:6913-1700906400-1700931600@easttennesseevisitorsguide.com
SUMMARY:Small Business Saturday
DESCRIPTION:Small Business Saturday\nSupport small local buinessess in your community \n10:00 – 5:00
URL:https://easttennesseevisitorsguide.com/event/small-business-saturday/
CATEGORIES:Home Page Events,other events
ATTACH;FMTTYPE=image/jpeg:https://easttennesseevisitorsguide.com/wp-content/uploads/2023/08/small-business-saturday.jpg
END:VEVENT
BEGIN:VEVENT
DTSTART;TZID=America/Chicago:20231111T180000
DTEND;TZID=America/Chicago:20231111T210000
DTSTAMP:20260419T150502
CREATED:20230808T185214Z
LAST-MODIFIED:20230915T161752Z
UID:6910-1699725600-1699736400@easttennesseevisitorsguide.com
SUMMARY:Eat\, Drink & Be Charitable
DESCRIPTION:Eat\, Drink & Be Charitable\nPresented by: Rogersville Heritage Association\nNovember 11\, 2023\n6:00 – 9:00\nHale Springs Inn \nLive Entertainment & Silent Auction \nFor more information: 423-272-1961
URL:https://easttennesseevisitorsguide.com/event/eat-drink-be-charitable/
CATEGORIES:Chamber Events,Home Page Events,other events
ATTACH;FMTTYPE=image/jpeg:https://easttennesseevisitorsguide.com/wp-content/uploads/2023/08/eat-drink-charity.jpg
END:VEVENT
BEGIN:VEVENT
DTSTART;TZID=UTC:20231111T110000
DTEND;TZID=UTC:20231111T120000
DTSTAMP:20260419T150502
CREATED:20210727T191942Z
LAST-MODIFIED:20210727T191942Z
UID:6880-1699700400-1699704000@easttennesseevisitorsguide.com
SUMMARY:Veterans Day Ceremony
DESCRIPTION:Veterans Day Ceremony\nHawkins County Courthouse Lawn
URL:https://easttennesseevisitorsguide.com/event/veterans-day-ceremony-2/
CATEGORIES:Home Page Events,other events
ATTACH;FMTTYPE=:
END:VEVENT
BEGIN:VEVENT
DTSTART;TZID=America/Chicago:20231014T080000
DTEND;TZID=America/Chicago:20231014T170000
DTSTAMP:20260419T150502
CREATED:20230809T151146Z
LAST-MODIFIED:20230915T162926Z
UID:6785-1697270400-1697302800@easttennesseevisitorsguide.com
SUMMARY:Surgoinsville Half Marathon
DESCRIPTION:Surgoinsville Half Marathon\nSaturday October 14th\n8:00am\n 13.1 mile road race\nSurgoinsville Middle School\nSurgoinsville\, TN\n – SFTC King & Queen Competition and Long Distance Series -more info contact  Mark Skelton 423-272-4812
URL:https://easttennesseevisitorsguide.com/event/surgoinsville-half-marathon/
CATEGORIES:Home Page Events,other events
END:VEVENT
BEGIN:VEVENT
DTSTART;TZID=America/Chicago:20230909T080000
DTEND;TZID=America/Chicago:20230909T170000
DTSTAMP:20260419T150502
CREATED:20230809T150111Z
LAST-MODIFIED:20230809T150111Z
UID:6911-1694246400-1694278800@easttennesseevisitorsguide.com
SUMMARY:Annual Bays Mountain Trail Race
DESCRIPTION:16th Annual Bays Mountain Trail Race\nSaturday\, September 9\, 2023\n8:00am\n15 Mile trail race at Bays Moutain Park – SFTC King & Quenn Competition\, Trail Series and Long Distance Series. \nLunch catered by Texas Roadhouse of Kingsport
URL:https://easttennesseevisitorsguide.com/event/annual-bays-mountain-trail-race/
CATEGORIES:Home Page Events,other events
ATTACH;FMTTYPE=:
END:VEVENT
BEGIN:VEVENT
DTSTART;TZID=America/Chicago:20230729T100000
DTEND;TZID=America/Chicago:20230729T130000
DTSTAMP:20260419T150502
CREATED:20230501T154140Z
LAST-MODIFIED:20230501T154140Z
UID:6909-1690624800-1690635600@easttennesseevisitorsguide.com
SUMMARY:Back to School Splash - Mt Carmel City Park
DESCRIPTION:Back to School Splash\nMount Carmel City Park Water Event \nFor more information call 423-357-7311
URL:https://easttennesseevisitorsguide.com/event/back-to-school-splash-mt-carmel-city-park/
CATEGORIES:other events
ATTACH;FMTTYPE=image/jpeg:https://easttennesseevisitorsguide.com/wp-content/uploads/2023/07/unwind-vacation-rentals-03.jpg
END:VEVENT
BEGIN:VEVENT
DTSTART;TZID=America/Chicago:20230718T063000
DTEND;TZID=America/Chicago:20230718T120000
DTSTAMP:20260419T150502
CREATED:20230501T153714Z
LAST-MODIFIED:20230501T153714Z
UID:6908-1689661800-1689681600@easttennesseevisitorsguide.com
SUMMARY:Annual Wolf Run
DESCRIPTION:13 Annual Wolf Run\nBays Mountain Park Kingsport\, TN.\nTuesday\, July 18\, 6:30\n 7 mile trail run  \n SFTC King & Queen Competition\, Trail Series Competition. \nTaco Bar Catered by Barberitos of Kingsport.  \nMore info call Skelton Law Office 423-272-4812 \n\nWolf Run \n\n 
URL:https://easttennesseevisitorsguide.com/event/annual-wolf-run/
CATEGORIES:Home Page Events,other events
ATTACH;FMTTYPE=:
END:VEVENT
BEGIN:VEVENT
DTSTART;VALUE=DATE:20230607
DTEND;VALUE=DATE:20230729
DTSTAMP:20260419T150502
CREATED:20220414T135120Z
LAST-MODIFIED:20220414T135120Z
UID:4852-1686096000-1690588799@easttennesseevisitorsguide.com
SUMMARY:HB Stamps Rogersville Library Summer Reading Program
DESCRIPTION:Every Wednesdays 10am: Children’s Story Time  \n Mystery Book Club – 4th  Thursday of every month 6pm  \nHB STAMPS | ROGERSVILLE LIBRARY \nJune 7  Summer reading    10:00 am \nJune 14 Summer Reading  10:00 am  \nJune 21 Summer Reading   10:00 am \nJune 28 Summer Reading   10:00 am
URL:https://easttennesseevisitorsguide.com/event/hb-stamps-rogersville-library-summer-reading-program/
CATEGORIES:Home Page Events,other events
ATTACH;FMTTYPE=:
END:VEVENT
BEGIN:VEVENT
DTSTART;TZID=America/Chicago:20230601T100000
DTEND;TZID=America/Chicago:20230820T140000
DTSTAMP:20260419T150502
CREATED:20230406T172639Z
LAST-MODIFIED:20230406T172639Z
UID:6905-1685613600-1692540000@easttennesseevisitorsguide.com
SUMMARY:Surgoinsville Library Summer Reading Program
DESCRIPTION:Surgoinsville Library  \nMondays 1:00pm: Children’s Story Time \nAdult Book Club  – 1st Friday of each month 4:30pm \nSurgoinsville Library Summer Reading Program Dates: \nJune 16  Summer Reading   1:00pm \nJune  21   Summer Reading  1:00pm  \nJune  22   Summer Reading  1:00pm \nJune  23   Summer Reading   1:00pm
URL:https://easttennesseevisitorsguide.com/event/surgoinsville-library-summer-reading-program/
CATEGORIES:Home Page Events,other events
ATTACH;FMTTYPE=image/jpeg:https://easttennesseevisitorsguide.com/wp-content/uploads/2023/05/rogersville-marine02-scaled.jpg
END:VEVENT
BEGIN:VEVENT
DTSTART;TZID=UTC:20230529T110000
DTEND;TZID=UTC:20230529T130000
DTSTAMP:20260419T150502
CREATED:20210422T200859Z
LAST-MODIFIED:20210422T200859Z
UID:6876-1685358000-1685365200@easttennesseevisitorsguide.com
SUMMARY:Memorial Day Service in Rogersville Town Square
DESCRIPTION:Memorial Day Service in Rogersville Town Square sponsored by American Legion Post 21\nDowntown Rogersville\, Tennessee\n11:00 am \nDennis Elkins 423-235-1165 \n  \n 
URL:https://easttennesseevisitorsguide.com/event/memorial-day-service-in-rogersville-town-square-2/
CATEGORIES:Chamber Events,other events
ATTACH;FMTTYPE=:
END:VEVENT
BEGIN:VEVENT
DTSTART;TZID=UTC:20230501T080000
DTEND;TZID=UTC:20231030T090000
DTSTAMP:20260419T150502
CREATED:20210422T200037Z
LAST-MODIFIED:20230927T151221Z
UID:6875-1682928000-1698656400@easttennesseevisitorsguide.com
SUMMARY:Bulls Gap Farmer's Market
DESCRIPTION:May 1 – October 30\nSaturday’s 8:00 – 9:00\n423-235-5216\n 
URL:https://easttennesseevisitorsguide.com/event/bulls-gap-farmers-market-2/
CATEGORIES:other events
ATTACH;FMTTYPE=image/jpeg:https://easttennesseevisitorsguide.com/wp-content/uploads/2023/09/qtq80-rwC06a.jpeg
END:VEVENT
BEGIN:VEVENT
DTSTART;TZID=UTC:20230422T090000
DTEND;TZID=UTC:20230422T110000
DTSTAMP:20260419T150502
CREATED:20210224T034326Z
LAST-MODIFIED:20210224T034326Z
UID:4447-1682154000-1682161200@easttennesseevisitorsguide.com
SUMMARY:Cherokee Lake Power Clean Up
DESCRIPTION:Cherokee Lake Power Clean Up\nApril 22\, 2023- 9:00-11:00\nSponsored by the Rogersville/Hawkins County Chamber of Commerce\nand Holston Electric Cooperative. \n9:00 a.m. at Quarryville Boat Dock. \nCall 423-272-2186 or 423-272-8821 for more information.
URL:https://easttennesseevisitorsguide.com/event/cherokee-lake-power-clean-up/
CATEGORIES:Chamber Events,other events
ATTACH;FMTTYPE=:
END:VEVENT
BEGIN:VEVENT
DTSTART;TZID=America/Chicago:20230408T110000
DTEND;TZID=America/Chicago:20230408T130000
DTSTAMP:20260419T150502
CREATED:20230330T155054Z
LAST-MODIFIED:20230330T155054Z
UID:6902-1680951600-1680958800@easttennesseevisitorsguide.com
SUMMARY:Easter Egg Hunt Mount Carmel
DESCRIPTION:April 8\, 2023\nEaster Egg Hunt\nMount Carmel City Park\n11:00 am \nFor more information call 423-357-7311
URL:https://easttennesseevisitorsguide.com/event/easter-egg-hunt-mount-carmel/
CATEGORIES:Home Page Events,other events
ATTACH;FMTTYPE=image/jpeg:https://easttennesseevisitorsguide.com/wp-content/uploads/2023/05/mens-gift-basket-01.jpg
END:VEVENT
BEGIN:VEVENT
DTSTART;VALUE=DATE:20230401
DTEND;VALUE=DATE:20230701
DTSTAMP:20260419T150502
CREATED:20230330T154652Z
LAST-MODIFIED:20230330T154652Z
UID:6901-1680307200-1688169599@easttennesseevisitorsguide.com
SUMMARY:Church Hill Library Events
DESCRIPTION:Church Hill Library Events for 2023\nApril 14  Storytime with Ms. Joanna 10:00am Church Hill Library\nApril 20  Crochet Class 2:00-4:00 Church Hill Library\nApril 21  Storytime with Ms. Joanna 10:00am Church Hill Library\nApril 24  Mystery Book Club 6:00 pm Church Hill Library\nApril 28  Storytime with Ms. Joanna 10:00am Church Hill Library \nMay 5  Storytime with Ms. Joanna 10:00 am Church Hill Library \nMay 18  Crochet Class 2:00-4:00 Church Hill Library\nMay 22  Mystery Book Club 6:00pm Church Hill Library \nChurch Hill Library Summer Reading Program Dates:\nJune 15  Summer Reading 10:00am Ages 6-11\nJune 16  Summer Reading 10:00pm Ages 3-5\nJune  22 Summer Reading 10:00pm Ages 6-11\nJune 23  Summer Reading 10:00pm Ages 3-5\nJune 30  Summer Reading 11:00pm Everyone\nJune 26  Mystery Book Club 6:00 pm
URL:https://easttennesseevisitorsguide.com/event/church-hill-library-events/
CATEGORIES:other events
ATTACH;FMTTYPE=:
END:VEVENT
BEGIN:VEVENT
DTSTART;VALUE=DATE:20230401
DTEND;VALUE=DATE:20240101
DTSTAMP:20260419T150502
CREATED:20230330T151959Z
LAST-MODIFIED:20230927T150845Z
UID:6900-1680307200-1704067199@easttennesseevisitorsguide.com
SUMMARY:Local Artists Gallery Events
DESCRIPTION:April 1\, 8\, 15\, 22\, 29: Local Artist Gallery Art Classes by Instructor Monica Byington from 1:00-3:00. Cost of classes plus supplies is $10. Classes will cover oils\, acrylics\, or pastel painting. Beginners welcome. For more information call 865-317-4790 \nApril 5\, 12\, 19\, 26 Local Artist Gallery Art Classes by Instructor Monica Byington from 2:00-4:00. Cost of classes plus supplies is $10. Classes will cover oils\, acrylics\, or pastel painting. Beginners\nwelcome. For more information call 865-317-4790 \nApril 1\, 8\, 15\, 22\, 29 Local Artist Gallery Children’s Art Classes by instructors Caleb King from 10:30-12:30. Cost of each class is $10. 00. All materials are provided. For more information call 865-317- 4790 \nApril 5\, 12\, 19\, 26 Local Artist Gallery Teen Art Classes- Instructor Donna Goins cost $10.00 all supplies provided except canvas. 865-317-4790. \nApril 1\,8\,15\,22\,29 Local Artist Gallery Teen Art Classes Instructor Donna Goins cost $10.00 all supplies provided except canvas. 865-317-4790. Saturday 3-5PM. \nMay 6\, 13\, 20\, 27: Local Artist Gallery Art Classes by Instructor Monica Byington from 1:00-3:00. Cost of classes plus supplies is $10. Classes will cover oils\, acrylics\, or pastel painting. Beginners\nwelcome. For more information call 865-317-4790 \nMay 3\, 10\, 17\, 24\, 31:  Local Artist Gallery Art Classes by Instructor Monica Byington from 2:00-4:00. Cost of\nclasses plus supplies is $10. Classes will cover oils\, acrylics\, or pastel painting. Beginners\nwelcome. For more information call 865-317-4790 \nMay 6\, 1\, 13\, 20\, 27 : Local Artist Gallery Children Art Classes by instructors Caleb King Saturdays 10:30-12:30. Cost of Class is $10.00 Call 865-317-4790 \nMay 3\, 10\, 17\, 24\, 31:  Local Artist Gallery Teen Art Classes Instructor Donna Goins cost $10.00 all supplies provided except canvas. 865-317-4790 \nMay 6\, 13\, 20\, 27 Local Artist Gallery Teen Art Classes Instructor Donna Goins cost $10.00 all supplies provided except canvas. 865-317-4790. Saturday Class 3:00-5:00 \nJune 3\, 10\, 17\, 24: Local Artist Gallery Art Classes by Instructor Monica Byington from 1:00-3:00\, Saturday classes. Cost of classes plus supplies is $10. Classes will cover oils\, acrylics\, or pastel painting. Beginners welcome. For more information call 865-317-4790 \nJune 7\, 14\, 21\, 28: Local Artist Gallery Art Classes by Instructor Monica Byington from 2:00-4:00\, Wednesday Classes. Cost of classes plus supplies is $10. Classes will cover oils\, acrylics\, or\npastel painting. Beginners welcome. For more information call 865-317-4790 \nJune 3\, 10\, 17\, 24: Local Artist Gallery Children Art Classes by instructors Caleb King From 10:30-12:30. Cost of each class is $10.00. All materials are provided. For more information call 865-317- 4790 \nJune 7\,14\,21\,28: Local Artist Gallery Teen Art Classes Instructor Donna Goins cost $10.00 all supplies provided except canvas. 865-317-4790 \nJune 3\,10\,17\,24: Local Artist Gallery Teen Art Classes Instructor Donna Goins cost $10.00 all supplies provided except canvas. 865-317-4790 Saturday Class \nJuly 1\, 8\, 15\, 22\, 29: Local Artist Gallery Art Classes by Instructor Monica Byington from 1:00-3:00. Cost of classes plus supplies is $10. Classes will cover oils\, acrylics\, or pastel painting. Beginners welcome. 865-317-4790 \nJuly 5\, 12\, 19\, 26: Local Artist Gallery Art Classes by Instructor Monica Byington from 2:00-4:00. Cost of classes plus supplies is $10. Classes will cover oils\, acrylics\, or pastel painting. Beginners\nwelcome. 865-317-4790 \nJuly 1\, 8\, 15\, 22\, 29:  Local Artist Gallery Children Art Classes by instructor Caleb King From 10:30-12:30. Cost of each class is $10.00. All materials are provided. 865-317-4790 \nJuly 5\, 12\, 19 \,26:  Local Artist Gallery Teen Art Classes Instructor Donna Goins cost $10.00 all supplies provided except canvas. 865-317-4790 \nJuly 1\, 8\, 15\,22 \,29 Local Artist Gallery Teen Art Classes Instructor Donna Goins cost $10.00 all supplies provided except canvas. 865-317-4790 \nAugust 5\, 12\, 19\, 26 Local Artist Gallery Art Classes by Instructor Monica Byington from 1:00-3:00. Cost of classes plus supplies is $10. Classes will cover oils\, acrylics\, or pastel painting. Beginners\nwelcome. For more information call 865-317-4790 \nAugust 2\, 9\, 16\, 23\, 30 Local Artist Gallery Art Classes by Instructor Monica Byington from 2:00-4:00. Cost of classes plus supplies is $10. Classes will cover oils\, acrylics\, or pastel painting. Beginners welcome. For more information call 865-317-4790 \nAugust 5\, 12\, 19\, 26 Local Artist Gallery Children Art Classes by instructor Caleb King . From 10:00-12:00. Cost of each class is $10.00. All materials are provided. For more information call 865-317-4790 \nAugust 2\, 9\, 16\, 23\, 30 Local Artist Gallery Teen Art Classes Instructor Donna Goins cost $10.00 all supplies provided except canvas. 865-317-4790 \nAugust 5\, 12\, 19\, 26 Local Artist Gallery Teen Art Classes Instructor Donna Goins cost $10.00 all supplies provided except canvas. 865-317-4790. Saturday 3:00 -5:00 \nSeptember 2\, 9\, 16\, 23\,30 Local Artist Gallery Art Classes by Instructor Monica Byington from 1:00-3:00. Cost of classes plus supplies is $10. Classes will cover oils\, acrylics\, or pastel painting.\nBeginners welcome. 865-317-4790 \nSeptember 6\, 13\, 20\, 27 Local Artist Gallery Art Classes by Instructor Monica Byington from 2:00-4:00. Cost of classes plus supplies is $10. Classes will cover oils\, acrylics\, or pastel painting. Beginners welcome. For more information call 865-317-4790 \nSeptember 2\, 9\, 16\, 23\, 30 Local Artist Gallery Children Art Classes by instructor Caleb King From 10:30- 12:30. Cost of each class is $10.00. All materials are provided. For more information call\n865-317-4790 \nSeptember 6\, 13\, 20\, 27 Local Artist Gallery Teen Art Classes Instructor Donna Goins cost $10.00 all supplies provided except canvas. 865-317-4790 \nSeptember 2\, 9\, 16\, 23\, 30 Local Artist Gallery Teen Art Classes Instructor Donna Goins cost $10.00 all supplies provided except canvas. 865-317-4790. Saturday 3:00- 5:00pm \nOctober 7\, 14\, 21\, 28 Local Artist Gallery Art Classes by Instructor Monica Byington from 1:00-3:00. Cost of classes plus supplies is $10. Classes will cover oils\, acrylics\, or pastel painting. Beginners welcome. For more information call 865-317-4790 \nOctober 4\, 11\, 18\, 25 Local Artist Gallery Art Classes by Instructor Monica Byington from 2:00-4:00. Cost of classes plus supplies is $10. Classes will cover oils\, acrylics\, or pastel painting. Beginners welcome. For more information call 865-317-4790 \nOctober 7\,14\,21\,28 Local Artist Gallery Children Art Classes by instructor Caleb KIng. From 10:30-12:30. Cost of each class is $10.oo. All materials are provided. For more information call 865-317- 4790 \nOctober 4\, 11\, 18\, 25 Local Artist Gallery Teen Art Classes Instructor Donna Goins cost $10.00 all supplies provided except canvas. 865-317-4790 \nOctober 7\, 14\, 21\, 28\, Local Artist Gallery Teen Art Classes Instructor Donna Goins cost $10.00 all supplies provided except canvas. 865-317-4790. Saturday 3:00-5:00 \nNovember 4\, 11\, 18\, 25 Local Artist Gallery Art Classes by Instructor Monica Byington from 1:00-3:00. Cost of classes plus supplies is $10. Classes will cover oils\, acrylics\, or pastel painting. Beginners welcome. For more information call 865-317-4790 \nNovember 1\, 8\, 15\, 22\, 29 Local Artist Gallery Art Classes by Instructor Monica Byington from 2:00-4:00. Cost of classes plus supplies is $10. Classes will cover oils\, acrylics\, or pastel painting.\nBeginners welcome. 865-317-4790 \nNovember 4\, 11\, 18\, 25 Local Artist Gallery Children Art Classes by instructor Caleb King. From 10:30-12:30. Cost of each class is $10.00. All materials are provided. For more information call\n865-317-4790 \nNovember 1\, 8\,15\, 22\, 29 Local Artist Gallery Teen Art Classes Instructor Donna Goins cost $10.00 all supplies provided except canvas. 865-317-4790 \nNovember 4\, 11\,18\, 25 Local Artist Gallery Teen Art Classes Instructor Donna Goins cost $10.00 all supplies provided except canvas. 865-317-4790. Saturday 3:00-5:00 \nDecember 2\, 9\, 16\, 23\, 30 Local Artist Gallery Art Classes by Instructor Monica Byington from 1:00-3:00. Cost of classes plus supplies is $10. Classes will cover oils\, acrylics\, or pastel painting.\nBeginners welcome. For more information call 865-317-4790 \nDecember 6\, 13\, 20\, 27 Local Artist Gallery Art Classes by Instructor Monica Byington from 2:00-4:00. Cost of classes plus supplies is $10. Classes will cover oils\, acrylics\, or pastel painting. Beginners welcome. For more information call 865-317-4790 \nDecember 2\, 9\, 16\, 23\, 30 Local Artist Gallery Children Art Classes by instructor Caleb KIng. From 10:00- 12:00. Cost of each class is $10.00 All materials are provided. For more information call\n865-317-4790 \nDecember 6\, 13\, 20\, 27 Local Artist Gallery Teen Art Classes Instructor Donna Goins cost $10.00 all supplies provided except canvas. 865-317-4790 \nDecember 2\, 9\, 16\, 23\, 30 Local Artist Gallery Teen Art Classes Instructor Donna Goins cost $10.00 all supplies provided except canvas. 865-317-4790. Saturday 3:00-5:00
URL:https://easttennesseevisitorsguide.com/event/local-artists-gallery-events/
CATEGORIES:other events
ATTACH;FMTTYPE=image/jpeg:https://easttennesseevisitorsguide.com/wp-content/uploads/2023/03/local-artists-gallery-rogersville.jpg
END:VEVENT
BEGIN:VEVENT
DTSTART;VALUE=DATE:20220601
DTEND;VALUE=DATE:20220717
DTSTAMP:20260419T150502
CREATED:20220414T134704Z
LAST-MODIFIED:20220414T134704Z
UID:4849-1654041600-1658015999@easttennesseevisitorsguide.com
SUMMARY:Church Hill Summer Reading Program
DESCRIPTION:*Fridays: 10:00am: Little Book Worms Story Time \n*4th Thursday of every month: Adult Book Club 6:00pm \nStarting June 17 @ 11:00am – Church Hill Summer Reading Program with Mr. Bond the Scince Guy\nadditional dates for Summer Reading Program:\nJune 23 @ 10:00am (ages 6 – 11)\nJune 24 @ 10:00am (ages 6 – 11)\nJune 30 @ 10:00am (ages 6 – 11)\nJuly 1 @ 10:00am (ages 3 – 5 )\nJuly 7 @ 10:00am (ages 6 – 11)\nJuly 8 @ 10:00am (ages 3 – 5)\nJuly 15 @ 11:00am – SRP Finale / Picnic at Splash Park in Church Hill (All Ages)
URL:https://easttennesseevisitorsguide.com/event/church-hill-summer-reading-program/
CATEGORIES:other events
ATTACH;FMTTYPE=:
END:VEVENT
BEGIN:VEVENT
DTSTART;TZID=America/Chicago:20220421T080000
DTEND;TZID=America/Chicago:20220423T170000
DTSTAMP:20260419T150502
CREATED:20220302T160215Z
LAST-MODIFIED:20220302T160215Z
UID:4806-1650528000-1650733200@easttennesseevisitorsguide.com
SUMMARY:Friends of the Church Hill Public Library
DESCRIPTION:  \n Friends of the Church Hill Public Library Book Sale\n(during regular library hours.)\nApril 21\, 22\, 23\, 2022 \nhttps://hawkinslibraries.org/church_hill_public_library/
URL:https://easttennesseevisitorsguide.com/event/friends-of-the-church-hill-public-library/
CATEGORIES:other events
ATTACH;FMTTYPE=:
END:VEVENT
END:VCALENDAR