BEGIN:VCALENDAR
VERSION:2.0
PRODID:-//East Tennesee Visitors Guide - ECPv6.15.20//NONSGML v1.0//EN
CALSCALE:GREGORIAN
METHOD:PUBLISH
X-ORIGINAL-URL:https://easttennesseevisitorsguide.com
X-WR-CALDESC:Events for East Tennesee Visitors Guide
REFRESH-INTERVAL;VALUE=DURATION:PT1H
X-Robots-Tag:noindex
X-PUBLISHED-TTL:PT1H
BEGIN:VTIMEZONE
TZID:UTC
BEGIN:STANDARD
TZOFFSETFROM:+0000
TZOFFSETTO:+0000
TZNAME:UTC
DTSTART:20250101T000000
END:STANDARD
END:VTIMEZONE
BEGIN:VEVENT
DTSTART;TZID=UTC:20260911T170000
DTEND;TZID=UTC:20260911T200000
DTSTAMP:20260419T150738
CREATED:20210224T034736Z
LAST-MODIFIED:20260324T155626Z
UID:4456-1789146000-1789156800@easttennesseevisitorsguide.com
SUMMARY:Cruise-In On The Square
DESCRIPTION:Cruise In On the Square\nDowtown Rogersville\, Tennessee\nMay 22\, 2026: 5:00 – 8:00\nJune 12\, 2026: 5:00 – 8:00\nJuly 3\, 2026: 5:00 – 8:00\nJuly 25\, 2026: 5:00 – 8:00 (JEEP Jam Show)\nAugust 14\, 2026: 5:00 – 8:00\nSeptember 11\, 2026: 5:00 – 8:00\nOctober 9\, 2026: 6:30 – 9:00 in conjuction with “Heritage Days”\n  \nJOIN US IS BEAUTIFUL HISTORIC ROGERSVILLE FOR CRUISE IN ON THE SQUARE ON MAIN STREET.\nSETUP IS AT 3:00PM with the exception of October 10 Heritage Days setup is 12:00 noon/ STREETS CLOSE AT 4:00 FROM BROWLOWE TO HASSON STREET. \nSHOW OFF YOUR PRE-1989 RIDE\, VISIT THE LOCAL SHOPS\, HAVE DINNER AT ONE OF OUR FINE RESTAURANT OR SIMPLY GET TOGETHER WITH FRIENDS\nLIVE ENTERTAINMENT \nTHIS EVENT IS FREE TO ATTEND OR EXHIBIT PRE-1989 RESTORED VECHILES. DASH PLAQUES TO THE FIRST 50 CARS. CHECK OUT OUR MAIN STREET BOOTH FOR CRUISE IN T-SHIRTS\, TAGS AND VOTE FOR PEOPLE CHOICE TROPHY.\nPLEASE NO PETS\, BICYCLES OR SKATEBOARDS. \nFor more information\, call 423-272-2186
URL:https://easttennesseevisitorsguide.com/event/cruise-in-on-the-square-4/
CATEGORIES:Chamber Events,ETVG Events,Rogersville Main Street Events,Rogersville TN Events
ATTACH;FMTTYPE=image/jpeg:https://easttennesseevisitorsguide.com/wp-content/uploads/2021/02/cruisin00113-300x200-1.jpg
END:VEVENT
END:VCALENDAR