BEGIN:VCALENDAR
VERSION:2.0
PRODID:-//East Tennesee Visitors Guide - ECPv6.15.20//NONSGML v1.0//EN
CALSCALE:GREGORIAN
METHOD:PUBLISH
X-WR-CALNAME:East Tennesee Visitors Guide
X-ORIGINAL-URL:https://easttennesseevisitorsguide.com
X-WR-CALDESC:Events for East Tennesee Visitors Guide
REFRESH-INTERVAL;VALUE=DURATION:PT1H
X-Robots-Tag:noindex
X-PUBLISHED-TTL:PT1H
BEGIN:VTIMEZONE
TZID:America/Chicago
BEGIN:DAYLIGHT
TZOFFSETFROM:-0600
TZOFFSETTO:-0500
TZNAME:CDT
DTSTART:20250309T080000
END:DAYLIGHT
BEGIN:STANDARD
TZOFFSETFROM:-0500
TZOFFSETTO:-0600
TZNAME:CST
DTSTART:20251102T070000
END:STANDARD
BEGIN:DAYLIGHT
TZOFFSETFROM:-0600
TZOFFSETTO:-0500
TZNAME:CDT
DTSTART:20260308T080000
END:DAYLIGHT
BEGIN:STANDARD
TZOFFSETFROM:-0500
TZOFFSETTO:-0600
TZNAME:CST
DTSTART:20261101T070000
END:STANDARD
BEGIN:DAYLIGHT
TZOFFSETFROM:-0600
TZOFFSETTO:-0500
TZNAME:CDT
DTSTART:20270314T080000
END:DAYLIGHT
BEGIN:STANDARD
TZOFFSETFROM:-0500
TZOFFSETTO:-0600
TZNAME:CST
DTSTART:20271107T070000
END:STANDARD
END:VTIMEZONE
BEGIN:VTIMEZONE
TZID:UTC
BEGIN:STANDARD
TZOFFSETFROM:+0000
TZOFFSETTO:+0000
TZNAME:UTC
DTSTART:20250101T000000
END:STANDARD
END:VTIMEZONE
BEGIN:VEVENT
DTSTART;TZID=America/Chicago:20260530T100000
DTEND;TZID=America/Chicago:20260530T200000
DTSTAMP:20260419T092930
CREATED:20230306T153918Z
LAST-MODIFIED:20260324T160043Z
UID:6897-1780135200-1780171200@easttennesseevisitorsguide.com
SUMMARY:Junk & Jam
DESCRIPTION:Rogersville Heritage Association Presents:\nVintage Market / Junk & Jam Fair\n Saturday\, May 30\, 2026\n10:00am – 8:00pm\nCrockett Springs Park\nVintage Fair is a unique vintage inspired outdoor market featuring original mixed media art\, antiques\, antique inspired clothing and jewelry\, repurposed finds\, home decor\, architectural salvage\, outdoor furnishings\, seasonal plantings\, and consumable yummies. Vintage Market/Junk & Jam  is a unique opportunity to display your talent and passion.  \n423-272-1961
URL:https://easttennesseevisitorsguide.com/event/junk-jam/
CATEGORIES:Home Page Events,Rogersville Main Street Events
ATTACH;FMTTYPE=image/jpeg:https://easttennesseevisitorsguide.com/wp-content/uploads/2025/04/qtq80-5Xnpk3.jpeg
END:VEVENT
BEGIN:VEVENT
DTSTART;TZID=UTC:20260911T170000
DTEND;TZID=UTC:20260911T200000
DTSTAMP:20260419T092930
CREATED:20210224T034736Z
LAST-MODIFIED:20260324T155626Z
UID:4456-1789146000-1789156800@easttennesseevisitorsguide.com
SUMMARY:Cruise-In On The Square
DESCRIPTION:Cruise In On the Square\nDowtown Rogersville\, Tennessee\nMay 22\, 2026: 5:00 – 8:00\nJune 12\, 2026: 5:00 – 8:00\nJuly 3\, 2026: 5:00 – 8:00\nJuly 25\, 2026: 5:00 – 8:00 (JEEP Jam Show)\nAugust 14\, 2026: 5:00 – 8:00\nSeptember 11\, 2026: 5:00 – 8:00\nOctober 9\, 2026: 6:30 – 9:00 in conjuction with “Heritage Days”\n  \nJOIN US IS BEAUTIFUL HISTORIC ROGERSVILLE FOR CRUISE IN ON THE SQUARE ON MAIN STREET.\nSETUP IS AT 3:00PM with the exception of October 10 Heritage Days setup is 12:00 noon/ STREETS CLOSE AT 4:00 FROM BROWLOWE TO HASSON STREET. \nSHOW OFF YOUR PRE-1989 RIDE\, VISIT THE LOCAL SHOPS\, HAVE DINNER AT ONE OF OUR FINE RESTAURANT OR SIMPLY GET TOGETHER WITH FRIENDS\nLIVE ENTERTAINMENT \nTHIS EVENT IS FREE TO ATTEND OR EXHIBIT PRE-1989 RESTORED VECHILES. DASH PLAQUES TO THE FIRST 50 CARS. CHECK OUT OUR MAIN STREET BOOTH FOR CRUISE IN T-SHIRTS\, TAGS AND VOTE FOR PEOPLE CHOICE TROPHY.\nPLEASE NO PETS\, BICYCLES OR SKATEBOARDS. \nFor more information\, call 423-272-2186
URL:https://easttennesseevisitorsguide.com/event/cruise-in-on-the-square-4/
CATEGORIES:Chamber Events,ETVG Events,Rogersville Main Street Events,Rogersville TN Events
ATTACH;FMTTYPE=image/jpeg:https://easttennesseevisitorsguide.com/wp-content/uploads/2021/02/cruisin00113-300x200-1.jpg
END:VEVENT
BEGIN:VEVENT
DTSTART;TZID=UTC:20261031T170000
DTEND;TZID=UTC:20261031T200000
DTSTAMP:20260419T092930
CREATED:20201025T192619Z
LAST-MODIFIED:20260324T164559Z
UID:3656-1793466000-1793476800@easttennesseevisitorsguide.com
SUMMARY:Trunk or Treat: Halloween
DESCRIPTION:Truck or Treat\nOctober 31\, 2026\nThe Rogersville Main Street Program and the Rogersville/Hawkins County Chamber of Commerce is sponsoring a Trunk or Treat Event on October 31st from 1:00-9:00 in the downtown Historic District of Rogersville. This event is to provide a fun and safe Halloween night for the children\, ages 1-12\, of our community and will feature many activities throughout the evening. Activities will include a costume contest and trunk or treating out of the car trunks. 1st\, 2nd\, and 3rd place prizes will be awarded in the following age groups:\nAGES 1-4\nAGES 5-8\nAGES 9-12
URL:https://easttennesseevisitorsguide.com/event/trunk-or-treat/
CATEGORIES:ETVG Events,Home Page Events,Rogersville Main Street Events,Rogersville TN Events
ATTACH;FMTTYPE=image/jpeg:https://easttennesseevisitorsguide.com/wp-content/uploads/2020/10/trunk-or-treat01-300x200-1.jpg
END:VEVENT
BEGIN:VEVENT
DTSTART;TZID=UTC:20261205T160000
DTEND;TZID=UTC:20261205T180000
DTSTAMP:20260419T092930
CREATED:20210224T035228Z
LAST-MODIFIED:20260324T164736Z
UID:6872-1796486400-1796493600@easttennesseevisitorsguide.com
SUMMARY:Rogersville Christmas Parade
DESCRIPTION:2026 Rogersville Christmas Parade\n  \nYou’re invited to participate in the 2026 \nThe parade will be held in Rogersville on December 6\, 2025 at 4:00 p.m.  Line-up for the parade will begin at 3:00 p.m. in parking lot in front of East Rogersville Baptist Church and Rogersville Middle School.   \nFirst\, second and third place prizes will be awarded to those floats that wish to be judged.  If you would like to have your float entered into the contest\, please be sure to be in the parking lot in front of East Rogersville Baptist Church no later than 2:30 p.m.  Judging will begin at 3:15. Please have your float set up and ready to be judged at this time.   \nThe fire trucks will line up in the Hawkins Elementary parking lot.   \nWith Santa’s annual visit\, Downtown merchants Open House and the tree lighting service on the Courthouse Square\, this year’s celebration promises to be the best yet.  We look forward to a good turnout for the parade and the many activities planned.  Please fill out the entry application and return it to the Chamber of Commerce office no later than December 4\, 2025.  We’ll see you December 6th at 2:30 p.m. at East Rogersville Baptist Church! \nApplication for Rogersville Christmas Parade: click here\nOr call 423-272-2186
URL:https://easttennesseevisitorsguide.com/event/rogersville-christmas-parade-2/
CATEGORIES:Chamber Events,Home Page Events,Rogersville Main Street Events,Rogersville TN Events
ATTACH;FMTTYPE=image/jpeg:https://easttennesseevisitorsguide.com/wp-content/uploads/2021/02/IMG_2677-scaled.jpg
END:VEVENT
END:VCALENDAR